BEGIN:VCALENDAR
VERSION:2.0
PRODID:-//The Center on Rosser - ECPv6.15.20//NONSGML v1.0//EN
CALSCALE:GREGORIAN
METHOD:PUBLISH
X-WR-CALNAME:The Center on Rosser
X-ORIGINAL-URL:https://thecenteronrosser.org
X-WR-CALDESC:Events for The Center on Rosser
REFRESH-INTERVAL;VALUE=DURATION:PT1H
X-Robots-Tag:noindex
X-PUBLISHED-TTL:PT1H
BEGIN:VTIMEZONE
TZID:UTC
BEGIN:STANDARD
TZOFFSETFROM:+0000
TZOFFSETTO:+0000
TZNAME:UTC
DTSTART:20250101T000000
END:STANDARD
END:VTIMEZONE
BEGIN:VEVENT
DTSTART;TZID=UTC:20260424T093000
DTEND;TZID=UTC:20260424T103000
DTSTAMP:20260422T131547
CREATED:20260417T021408Z
LAST-MODIFIED:20260417T021626Z
UID:10003507-1777023000-1777026600@thecenteronrosser.org
SUMMARY:Mind-Body Reset Walk
DESCRIPTION:Join us for a morning walk. Feel free to bring your leashed pup! \nMindfulness walking around our 1/4 trail. Get grounded and centered with walking\, gentle stretching\, and social connection. Bring a hat\, sunglasses\, and suncreen! \nFree to Standard and Premium members. Basic $3 \nMeet at Front Desk to check in
URL:https://thecenteronrosser.org/event/mind-body-reset-walk/2026-04-24/
CATEGORIES:Basic Fitness
ATTACH;FMTTYPE=image/png:https://thecenteronrosser.org/wp-content/uploads/2026/04/walk-reset.png
END:VEVENT
BEGIN:VEVENT
DTSTART;TZID=UTC:20260429T093000
DTEND;TZID=UTC:20260429T103000
DTSTAMP:20260422T131547
CREATED:20260408T180125Z
LAST-MODIFIED:20260417T021601Z
UID:10002200-1777455000-1777458600@thecenteronrosser.org
SUMMARY:Mind-Body Reset Walk
DESCRIPTION:Join us for a morning walk. Feel free to bring your leashed pup! \nMindfulness walking around our 1/4 trail. Get grounded and centered with walking\, gentle stretching\, and social connection. Bring a hat\, sunglasses\, and suncreen! \nFree to Standard and Premium members. Basic $3 \nMeet at Front Desk to check in
URL:https://thecenteronrosser.org/event/walking-club/2026-04-29/
CATEGORIES:Basic Fitness
ATTACH;FMTTYPE=image/png:https://thecenteronrosser.org/wp-content/uploads/2026/04/walk-reset.png
END:VEVENT
BEGIN:VEVENT
DTSTART;TZID=UTC:20260501T093000
DTEND;TZID=UTC:20260501T103000
DTSTAMP:20260422T131547
CREATED:20260417T021408Z
LAST-MODIFIED:20260417T021626Z
UID:10003508-1777627800-1777631400@thecenteronrosser.org
SUMMARY:Mind-Body Reset Walk
DESCRIPTION:Join us for a morning walk. Feel free to bring your leashed pup! \nMindfulness walking around our 1/4 trail. Get grounded and centered with walking\, gentle stretching\, and social connection. Bring a hat\, sunglasses\, and suncreen! \nFree to Standard and Premium members. Basic $3 \nMeet at Front Desk to check in
URL:https://thecenteronrosser.org/event/mind-body-reset-walk/2026-05-01/
CATEGORIES:Basic Fitness
ATTACH;FMTTYPE=image/png:https://thecenteronrosser.org/wp-content/uploads/2026/04/walk-reset.png
END:VEVENT
BEGIN:VEVENT
DTSTART;TZID=UTC:20260506T093000
DTEND;TZID=UTC:20260506T103000
DTSTAMP:20260422T131547
CREATED:20260408T180125Z
LAST-MODIFIED:20260417T021601Z
UID:10002201-1778059800-1778063400@thecenteronrosser.org
SUMMARY:Mind-Body Reset Walk
DESCRIPTION:Join us for a morning walk. Feel free to bring your leashed pup! \nMindfulness walking around our 1/4 trail. Get grounded and centered with walking\, gentle stretching\, and social connection. Bring a hat\, sunglasses\, and suncreen! \nFree to Standard and Premium members. Basic $3 \nMeet at Front Desk to check in
URL:https://thecenteronrosser.org/event/walking-club/2026-05-06/
CATEGORIES:Basic Fitness
ATTACH;FMTTYPE=image/png:https://thecenteronrosser.org/wp-content/uploads/2026/04/walk-reset.png
END:VEVENT
BEGIN:VEVENT
DTSTART;TZID=UTC:20260508T093000
DTEND;TZID=UTC:20260508T103000
DTSTAMP:20260422T131547
CREATED:20260417T021408Z
LAST-MODIFIED:20260417T021626Z
UID:10003509-1778232600-1778236200@thecenteronrosser.org
SUMMARY:Mind-Body Reset Walk
DESCRIPTION:Join us for a morning walk. Feel free to bring your leashed pup! \nMindfulness walking around our 1/4 trail. Get grounded and centered with walking\, gentle stretching\, and social connection. Bring a hat\, sunglasses\, and suncreen! \nFree to Standard and Premium members. Basic $3 \nMeet at Front Desk to check in
URL:https://thecenteronrosser.org/event/mind-body-reset-walk/2026-05-08/
CATEGORIES:Basic Fitness
ATTACH;FMTTYPE=image/png:https://thecenteronrosser.org/wp-content/uploads/2026/04/walk-reset.png
END:VEVENT
BEGIN:VEVENT
DTSTART;TZID=UTC:20260513T093000
DTEND;TZID=UTC:20260513T103000
DTSTAMP:20260422T131547
CREATED:20260408T180125Z
LAST-MODIFIED:20260417T021601Z
UID:10002202-1778664600-1778668200@thecenteronrosser.org
SUMMARY:Mind-Body Reset Walk
DESCRIPTION:Join us for a morning walk. Feel free to bring your leashed pup! \nMindfulness walking around our 1/4 trail. Get grounded and centered with walking\, gentle stretching\, and social connection. Bring a hat\, sunglasses\, and suncreen! \nFree to Standard and Premium members. Basic $3 \nMeet at Front Desk to check in
URL:https://thecenteronrosser.org/event/walking-club/2026-05-13/
CATEGORIES:Basic Fitness
ATTACH;FMTTYPE=image/png:https://thecenteronrosser.org/wp-content/uploads/2026/04/walk-reset.png
END:VEVENT
BEGIN:VEVENT
DTSTART;TZID=UTC:20260515T093000
DTEND;TZID=UTC:20260515T103000
DTSTAMP:20260422T131547
CREATED:20260417T021408Z
LAST-MODIFIED:20260417T021626Z
UID:10003510-1778837400-1778841000@thecenteronrosser.org
SUMMARY:Mind-Body Reset Walk
DESCRIPTION:Join us for a morning walk. Feel free to bring your leashed pup! \nMindfulness walking around our 1/4 trail. Get grounded and centered with walking\, gentle stretching\, and social connection. Bring a hat\, sunglasses\, and suncreen! \nFree to Standard and Premium members. Basic $3 \nMeet at Front Desk to check in
URL:https://thecenteronrosser.org/event/mind-body-reset-walk/2026-05-15/
CATEGORIES:Basic Fitness
ATTACH;FMTTYPE=image/png:https://thecenteronrosser.org/wp-content/uploads/2026/04/walk-reset.png
END:VEVENT
BEGIN:VEVENT
DTSTART;TZID=UTC:20260520T093000
DTEND;TZID=UTC:20260520T103000
DTSTAMP:20260422T131547
CREATED:20260408T180125Z
LAST-MODIFIED:20260417T021601Z
UID:10002203-1779269400-1779273000@thecenteronrosser.org
SUMMARY:Mind-Body Reset Walk
DESCRIPTION:Join us for a morning walk. Feel free to bring your leashed pup! \nMindfulness walking around our 1/4 trail. Get grounded and centered with walking\, gentle stretching\, and social connection. Bring a hat\, sunglasses\, and suncreen! \nFree to Standard and Premium members. Basic $3 \nMeet at Front Desk to check in
URL:https://thecenteronrosser.org/event/walking-club/2026-05-20/
CATEGORIES:Basic Fitness
ATTACH;FMTTYPE=image/png:https://thecenteronrosser.org/wp-content/uploads/2026/04/walk-reset.png
END:VEVENT
BEGIN:VEVENT
DTSTART;TZID=UTC:20260522T093000
DTEND;TZID=UTC:20260522T103000
DTSTAMP:20260422T131547
CREATED:20260417T021408Z
LAST-MODIFIED:20260417T021626Z
UID:10003511-1779442200-1779445800@thecenteronrosser.org
SUMMARY:Mind-Body Reset Walk
DESCRIPTION:Join us for a morning walk. Feel free to bring your leashed pup! \nMindfulness walking around our 1/4 trail. Get grounded and centered with walking\, gentle stretching\, and social connection. Bring a hat\, sunglasses\, and suncreen! \nFree to Standard and Premium members. Basic $3 \nMeet at Front Desk to check in
URL:https://thecenteronrosser.org/event/mind-body-reset-walk/2026-05-22/
CATEGORIES:Basic Fitness
ATTACH;FMTTYPE=image/png:https://thecenteronrosser.org/wp-content/uploads/2026/04/walk-reset.png
END:VEVENT
BEGIN:VEVENT
DTSTART;TZID=UTC:20260527T093000
DTEND;TZID=UTC:20260527T103000
DTSTAMP:20260422T131547
CREATED:20260408T180125Z
LAST-MODIFIED:20260417T021601Z
UID:10002204-1779874200-1779877800@thecenteronrosser.org
SUMMARY:Mind-Body Reset Walk
DESCRIPTION:Join us for a morning walk. Feel free to bring your leashed pup! \nMindfulness walking around our 1/4 trail. Get grounded and centered with walking\, gentle stretching\, and social connection. Bring a hat\, sunglasses\, and suncreen! \nFree to Standard and Premium members. Basic $3 \nMeet at Front Desk to check in
URL:https://thecenteronrosser.org/event/walking-club/2026-05-27/
CATEGORIES:Basic Fitness
ATTACH;FMTTYPE=image/png:https://thecenteronrosser.org/wp-content/uploads/2026/04/walk-reset.png
END:VEVENT
BEGIN:VEVENT
DTSTART;TZID=UTC:20260529T093000
DTEND;TZID=UTC:20260529T103000
DTSTAMP:20260422T131547
CREATED:20260417T021408Z
LAST-MODIFIED:20260417T021626Z
UID:10003512-1780047000-1780050600@thecenteronrosser.org
SUMMARY:Mind-Body Reset Walk
DESCRIPTION:Join us for a morning walk. Feel free to bring your leashed pup! \nMindfulness walking around our 1/4 trail. Get grounded and centered with walking\, gentle stretching\, and social connection. Bring a hat\, sunglasses\, and suncreen! \nFree to Standard and Premium members. Basic $3 \nMeet at Front Desk to check in
URL:https://thecenteronrosser.org/event/mind-body-reset-walk/2026-05-29/
CATEGORIES:Basic Fitness
ATTACH;FMTTYPE=image/png:https://thecenteronrosser.org/wp-content/uploads/2026/04/walk-reset.png
END:VEVENT
BEGIN:VEVENT
DTSTART;TZID=UTC:20260603T093000
DTEND;TZID=UTC:20260603T103000
DTSTAMP:20260422T131547
CREATED:20260408T180125Z
LAST-MODIFIED:20260417T021601Z
UID:10002205-1780479000-1780482600@thecenteronrosser.org
SUMMARY:Mind-Body Reset Walk
DESCRIPTION:Join us for a morning walk. Feel free to bring your leashed pup! \nMindfulness walking around our 1/4 trail. Get grounded and centered with walking\, gentle stretching\, and social connection. Bring a hat\, sunglasses\, and suncreen! \nFree to Standard and Premium members. Basic $3 \nMeet at Front Desk to check in
URL:https://thecenteronrosser.org/event/walking-club/2026-06-03/
CATEGORIES:Basic Fitness
ATTACH;FMTTYPE=image/png:https://thecenteronrosser.org/wp-content/uploads/2026/04/walk-reset.png
END:VEVENT
BEGIN:VEVENT
DTSTART;TZID=UTC:20260605T093000
DTEND;TZID=UTC:20260605T103000
DTSTAMP:20260422T131547
CREATED:20260417T021408Z
LAST-MODIFIED:20260417T021626Z
UID:10003513-1780651800-1780655400@thecenteronrosser.org
SUMMARY:Mind-Body Reset Walk
DESCRIPTION:Join us for a morning walk. Feel free to bring your leashed pup! \nMindfulness walking around our 1/4 trail. Get grounded and centered with walking\, gentle stretching\, and social connection. Bring a hat\, sunglasses\, and suncreen! \nFree to Standard and Premium members. Basic $3 \nMeet at Front Desk to check in
URL:https://thecenteronrosser.org/event/mind-body-reset-walk/2026-06-05/
CATEGORIES:Basic Fitness
ATTACH;FMTTYPE=image/png:https://thecenteronrosser.org/wp-content/uploads/2026/04/walk-reset.png
END:VEVENT
BEGIN:VEVENT
DTSTART;TZID=UTC:20260610T093000
DTEND;TZID=UTC:20260610T103000
DTSTAMP:20260422T131547
CREATED:20260408T180125Z
LAST-MODIFIED:20260417T021601Z
UID:10002206-1781083800-1781087400@thecenteronrosser.org
SUMMARY:Mind-Body Reset Walk
DESCRIPTION:Join us for a morning walk. Feel free to bring your leashed pup! \nMindfulness walking around our 1/4 trail. Get grounded and centered with walking\, gentle stretching\, and social connection. Bring a hat\, sunglasses\, and suncreen! \nFree to Standard and Premium members. Basic $3 \nMeet at Front Desk to check in
URL:https://thecenteronrosser.org/event/walking-club/2026-06-10/
CATEGORIES:Basic Fitness
ATTACH;FMTTYPE=image/png:https://thecenteronrosser.org/wp-content/uploads/2026/04/walk-reset.png
END:VEVENT
BEGIN:VEVENT
DTSTART;TZID=UTC:20260612T093000
DTEND;TZID=UTC:20260612T103000
DTSTAMP:20260422T131547
CREATED:20260417T021408Z
LAST-MODIFIED:20260417T021626Z
UID:10003514-1781256600-1781260200@thecenteronrosser.org
SUMMARY:Mind-Body Reset Walk
DESCRIPTION:Join us for a morning walk. Feel free to bring your leashed pup! \nMindfulness walking around our 1/4 trail. Get grounded and centered with walking\, gentle stretching\, and social connection. Bring a hat\, sunglasses\, and suncreen! \nFree to Standard and Premium members. Basic $3 \nMeet at Front Desk to check in
URL:https://thecenteronrosser.org/event/mind-body-reset-walk/2026-06-12/
CATEGORIES:Basic Fitness
ATTACH;FMTTYPE=image/png:https://thecenteronrosser.org/wp-content/uploads/2026/04/walk-reset.png
END:VEVENT
BEGIN:VEVENT
DTSTART;TZID=UTC:20260617T093000
DTEND;TZID=UTC:20260617T103000
DTSTAMP:20260422T131547
CREATED:20260408T180125Z
LAST-MODIFIED:20260417T021601Z
UID:10002207-1781688600-1781692200@thecenteronrosser.org
SUMMARY:Mind-Body Reset Walk
DESCRIPTION:Join us for a morning walk. Feel free to bring your leashed pup! \nMindfulness walking around our 1/4 trail. Get grounded and centered with walking\, gentle stretching\, and social connection. Bring a hat\, sunglasses\, and suncreen! \nFree to Standard and Premium members. Basic $3 \nMeet at Front Desk to check in
URL:https://thecenteronrosser.org/event/walking-club/2026-06-17/
CATEGORIES:Basic Fitness
ATTACH;FMTTYPE=image/png:https://thecenteronrosser.org/wp-content/uploads/2026/04/walk-reset.png
END:VEVENT
BEGIN:VEVENT
DTSTART;TZID=UTC:20260619T093000
DTEND;TZID=UTC:20260619T103000
DTSTAMP:20260422T131547
CREATED:20260417T021408Z
LAST-MODIFIED:20260417T021626Z
UID:10003515-1781861400-1781865000@thecenteronrosser.org
SUMMARY:Mind-Body Reset Walk
DESCRIPTION:Join us for a morning walk. Feel free to bring your leashed pup! \nMindfulness walking around our 1/4 trail. Get grounded and centered with walking\, gentle stretching\, and social connection. Bring a hat\, sunglasses\, and suncreen! \nFree to Standard and Premium members. Basic $3 \nMeet at Front Desk to check in
URL:https://thecenteronrosser.org/event/mind-body-reset-walk/2026-06-19/
CATEGORIES:Basic Fitness
ATTACH;FMTTYPE=image/png:https://thecenteronrosser.org/wp-content/uploads/2026/04/walk-reset.png
END:VEVENT
BEGIN:VEVENT
DTSTART;TZID=UTC:20260624T093000
DTEND;TZID=UTC:20260624T103000
DTSTAMP:20260422T131547
CREATED:20260408T180125Z
LAST-MODIFIED:20260417T021601Z
UID:10002208-1782293400-1782297000@thecenteronrosser.org
SUMMARY:Mind-Body Reset Walk
DESCRIPTION:Join us for a morning walk. Feel free to bring your leashed pup! \nMindfulness walking around our 1/4 trail. Get grounded and centered with walking\, gentle stretching\, and social connection. Bring a hat\, sunglasses\, and suncreen! \nFree to Standard and Premium members. Basic $3 \nMeet at Front Desk to check in
URL:https://thecenteronrosser.org/event/walking-club/2026-06-24/
CATEGORIES:Basic Fitness
ATTACH;FMTTYPE=image/png:https://thecenteronrosser.org/wp-content/uploads/2026/04/walk-reset.png
END:VEVENT
BEGIN:VEVENT
DTSTART;TZID=UTC:20260626T093000
DTEND;TZID=UTC:20260626T103000
DTSTAMP:20260422T131547
CREATED:20260417T021408Z
LAST-MODIFIED:20260417T021626Z
UID:10003516-1782466200-1782469800@thecenteronrosser.org
SUMMARY:Mind-Body Reset Walk
DESCRIPTION:Join us for a morning walk. Feel free to bring your leashed pup! \nMindfulness walking around our 1/4 trail. Get grounded and centered with walking\, gentle stretching\, and social connection. Bring a hat\, sunglasses\, and suncreen! \nFree to Standard and Premium members. Basic $3 \nMeet at Front Desk to check in
URL:https://thecenteronrosser.org/event/mind-body-reset-walk/2026-06-26/
CATEGORIES:Basic Fitness
ATTACH;FMTTYPE=image/png:https://thecenteronrosser.org/wp-content/uploads/2026/04/walk-reset.png
END:VEVENT
BEGIN:VEVENT
DTSTART;TZID=UTC:20260701T093000
DTEND;TZID=UTC:20260701T103000
DTSTAMP:20260422T131547
CREATED:20260408T180125Z
LAST-MODIFIED:20260417T021601Z
UID:10002209-1782898200-1782901800@thecenteronrosser.org
SUMMARY:Mind-Body Reset Walk
DESCRIPTION:Join us for a morning walk. Feel free to bring your leashed pup! \nMindfulness walking around our 1/4 trail. Get grounded and centered with walking\, gentle stretching\, and social connection. Bring a hat\, sunglasses\, and suncreen! \nFree to Standard and Premium members. Basic $3 \nMeet at Front Desk to check in
URL:https://thecenteronrosser.org/event/walking-club/2026-07-01/
CATEGORIES:Basic Fitness
ATTACH;FMTTYPE=image/png:https://thecenteronrosser.org/wp-content/uploads/2026/04/walk-reset.png
END:VEVENT
BEGIN:VEVENT
DTSTART;TZID=UTC:20260703T093000
DTEND;TZID=UTC:20260703T103000
DTSTAMP:20260422T131547
CREATED:20260417T021408Z
LAST-MODIFIED:20260417T021626Z
UID:10003517-1783071000-1783074600@thecenteronrosser.org
SUMMARY:Mind-Body Reset Walk
DESCRIPTION:Join us for a morning walk. Feel free to bring your leashed pup! \nMindfulness walking around our 1/4 trail. Get grounded and centered with walking\, gentle stretching\, and social connection. Bring a hat\, sunglasses\, and suncreen! \nFree to Standard and Premium members. Basic $3 \nMeet at Front Desk to check in
URL:https://thecenteronrosser.org/event/mind-body-reset-walk/2026-07-03/
CATEGORIES:Basic Fitness
ATTACH;FMTTYPE=image/png:https://thecenteronrosser.org/wp-content/uploads/2026/04/walk-reset.png
END:VEVENT
BEGIN:VEVENT
DTSTART;TZID=UTC:20260708T093000
DTEND;TZID=UTC:20260708T103000
DTSTAMP:20260422T131547
CREATED:20260408T180125Z
LAST-MODIFIED:20260417T021601Z
UID:10002210-1783503000-1783506600@thecenteronrosser.org
SUMMARY:Mind-Body Reset Walk
DESCRIPTION:Join us for a morning walk. Feel free to bring your leashed pup! \nMindfulness walking around our 1/4 trail. Get grounded and centered with walking\, gentle stretching\, and social connection. Bring a hat\, sunglasses\, and suncreen! \nFree to Standard and Premium members. Basic $3 \nMeet at Front Desk to check in
URL:https://thecenteronrosser.org/event/walking-club/2026-07-08/
CATEGORIES:Basic Fitness
ATTACH;FMTTYPE=image/png:https://thecenteronrosser.org/wp-content/uploads/2026/04/walk-reset.png
END:VEVENT
BEGIN:VEVENT
DTSTART;TZID=UTC:20260710T093000
DTEND;TZID=UTC:20260710T103000
DTSTAMP:20260422T131547
CREATED:20260417T021408Z
LAST-MODIFIED:20260417T021626Z
UID:10003518-1783675800-1783679400@thecenteronrosser.org
SUMMARY:Mind-Body Reset Walk
DESCRIPTION:Join us for a morning walk. Feel free to bring your leashed pup! \nMindfulness walking around our 1/4 trail. Get grounded and centered with walking\, gentle stretching\, and social connection. Bring a hat\, sunglasses\, and suncreen! \nFree to Standard and Premium members. Basic $3 \nMeet at Front Desk to check in
URL:https://thecenteronrosser.org/event/mind-body-reset-walk/2026-07-10/
CATEGORIES:Basic Fitness
ATTACH;FMTTYPE=image/png:https://thecenteronrosser.org/wp-content/uploads/2026/04/walk-reset.png
END:VEVENT
BEGIN:VEVENT
DTSTART;TZID=UTC:20260715T093000
DTEND;TZID=UTC:20260715T103000
DTSTAMP:20260422T131547
CREATED:20260408T180125Z
LAST-MODIFIED:20260417T021601Z
UID:10002211-1784107800-1784111400@thecenteronrosser.org
SUMMARY:Mind-Body Reset Walk
DESCRIPTION:Join us for a morning walk. Feel free to bring your leashed pup! \nMindfulness walking around our 1/4 trail. Get grounded and centered with walking\, gentle stretching\, and social connection. Bring a hat\, sunglasses\, and suncreen! \nFree to Standard and Premium members. Basic $3 \nMeet at Front Desk to check in
URL:https://thecenteronrosser.org/event/walking-club/2026-07-15/
CATEGORIES:Basic Fitness
ATTACH;FMTTYPE=image/png:https://thecenteronrosser.org/wp-content/uploads/2026/04/walk-reset.png
END:VEVENT
BEGIN:VEVENT
DTSTART;TZID=UTC:20260717T093000
DTEND;TZID=UTC:20260717T103000
DTSTAMP:20260422T131547
CREATED:20260417T021408Z
LAST-MODIFIED:20260417T021626Z
UID:10003519-1784280600-1784284200@thecenteronrosser.org
SUMMARY:Mind-Body Reset Walk
DESCRIPTION:Join us for a morning walk. Feel free to bring your leashed pup! \nMindfulness walking around our 1/4 trail. Get grounded and centered with walking\, gentle stretching\, and social connection. Bring a hat\, sunglasses\, and suncreen! \nFree to Standard and Premium members. Basic $3 \nMeet at Front Desk to check in
URL:https://thecenteronrosser.org/event/mind-body-reset-walk/2026-07-17/
CATEGORIES:Basic Fitness
ATTACH;FMTTYPE=image/png:https://thecenteronrosser.org/wp-content/uploads/2026/04/walk-reset.png
END:VEVENT
BEGIN:VEVENT
DTSTART;TZID=UTC:20260722T093000
DTEND;TZID=UTC:20260722T103000
DTSTAMP:20260422T131547
CREATED:20260408T180125Z
LAST-MODIFIED:20260417T021601Z
UID:10002212-1784712600-1784716200@thecenteronrosser.org
SUMMARY:Mind-Body Reset Walk
DESCRIPTION:Join us for a morning walk. Feel free to bring your leashed pup! \nMindfulness walking around our 1/4 trail. Get grounded and centered with walking\, gentle stretching\, and social connection. Bring a hat\, sunglasses\, and suncreen! \nFree to Standard and Premium members. Basic $3 \nMeet at Front Desk to check in
URL:https://thecenteronrosser.org/event/walking-club/2026-07-22/
CATEGORIES:Basic Fitness
ATTACH;FMTTYPE=image/png:https://thecenteronrosser.org/wp-content/uploads/2026/04/walk-reset.png
END:VEVENT
BEGIN:VEVENT
DTSTART;TZID=UTC:20260724T093000
DTEND;TZID=UTC:20260724T103000
DTSTAMP:20260422T131547
CREATED:20260417T021408Z
LAST-MODIFIED:20260417T021626Z
UID:10003520-1784885400-1784889000@thecenteronrosser.org
SUMMARY:Mind-Body Reset Walk
DESCRIPTION:Join us for a morning walk. Feel free to bring your leashed pup! \nMindfulness walking around our 1/4 trail. Get grounded and centered with walking\, gentle stretching\, and social connection. Bring a hat\, sunglasses\, and suncreen! \nFree to Standard and Premium members. Basic $3 \nMeet at Front Desk to check in
URL:https://thecenteronrosser.org/event/mind-body-reset-walk/2026-07-24/
CATEGORIES:Basic Fitness
ATTACH;FMTTYPE=image/png:https://thecenteronrosser.org/wp-content/uploads/2026/04/walk-reset.png
END:VEVENT
BEGIN:VEVENT
DTSTART;TZID=UTC:20260729T093000
DTEND;TZID=UTC:20260729T103000
DTSTAMP:20260422T131547
CREATED:20260408T180125Z
LAST-MODIFIED:20260417T021601Z
UID:10002213-1785317400-1785321000@thecenteronrosser.org
SUMMARY:Mind-Body Reset Walk
DESCRIPTION:Join us for a morning walk. Feel free to bring your leashed pup! \nMindfulness walking around our 1/4 trail. Get grounded and centered with walking\, gentle stretching\, and social connection. Bring a hat\, sunglasses\, and suncreen! \nFree to Standard and Premium members. Basic $3 \nMeet at Front Desk to check in
URL:https://thecenteronrosser.org/event/walking-club/2026-07-29/
CATEGORIES:Basic Fitness
ATTACH;FMTTYPE=image/png:https://thecenteronrosser.org/wp-content/uploads/2026/04/walk-reset.png
END:VEVENT
BEGIN:VEVENT
DTSTART;TZID=UTC:20260731T093000
DTEND;TZID=UTC:20260731T103000
DTSTAMP:20260422T131547
CREATED:20260417T021408Z
LAST-MODIFIED:20260417T021626Z
UID:10003521-1785490200-1785493800@thecenteronrosser.org
SUMMARY:Mind-Body Reset Walk
DESCRIPTION:Join us for a morning walk. Feel free to bring your leashed pup! \nMindfulness walking around our 1/4 trail. Get grounded and centered with walking\, gentle stretching\, and social connection. Bring a hat\, sunglasses\, and suncreen! \nFree to Standard and Premium members. Basic $3 \nMeet at Front Desk to check in
URL:https://thecenteronrosser.org/event/mind-body-reset-walk/2026-07-31/
CATEGORIES:Basic Fitness
ATTACH;FMTTYPE=image/png:https://thecenteronrosser.org/wp-content/uploads/2026/04/walk-reset.png
END:VEVENT
BEGIN:VEVENT
DTSTART;TZID=UTC:20260805T093000
DTEND;TZID=UTC:20260805T103000
DTSTAMP:20260422T131547
CREATED:20260408T180125Z
LAST-MODIFIED:20260417T021601Z
UID:10002214-1785922200-1785925800@thecenteronrosser.org
SUMMARY:Mind-Body Reset Walk
DESCRIPTION:Join us for a morning walk. Feel free to bring your leashed pup! \nMindfulness walking around our 1/4 trail. Get grounded and centered with walking\, gentle stretching\, and social connection. Bring a hat\, sunglasses\, and suncreen! \nFree to Standard and Premium members. Basic $3 \nMeet at Front Desk to check in
URL:https://thecenteronrosser.org/event/walking-club/2026-08-05/
CATEGORIES:Basic Fitness
ATTACH;FMTTYPE=image/png:https://thecenteronrosser.org/wp-content/uploads/2026/04/walk-reset.png
END:VEVENT
END:VCALENDAR