BEGIN:VCALENDAR
VERSION:2.0
PRODID:-//The Center on Rosser - ECPv6.15.20//NONSGML v1.0//EN
CALSCALE:GREGORIAN
METHOD:PUBLISH
X-WR-CALNAME:The Center on Rosser
X-ORIGINAL-URL:https://thecenteronrosser.org
X-WR-CALDESC:Events for The Center on Rosser
REFRESH-INTERVAL;VALUE=DURATION:PT1H
X-Robots-Tag:noindex
X-PUBLISHED-TTL:PT1H
BEGIN:VTIMEZONE
TZID:UTC
BEGIN:STANDARD
TZOFFSETFROM:+0000
TZOFFSETTO:+0000
TZNAME:UTC
DTSTART:20250101T000000
END:STANDARD
END:VTIMEZONE
BEGIN:VEVENT
DTSTART;TZID=UTC:20260429T120000
DTEND;TZID=UTC:20260429T130000
DTSTAMP:20260422T131540
CREATED:20260415T210111Z
LAST-MODIFIED:20260415T224933Z
UID:10002460-1777464000-1777467600@thecenteronrosser.org
SUMMARY:Writing Club
DESCRIPTION:A relaxed writing group where participants can bring personal writing projects or respond to optional prompts. The class includes quiet writing time with optional sharing in a supportive and encouraging environment. \n**Bring a notebook/journal/laptop. \nClasses are free to Standard and Premium members – $3 for all others
URL:https://thecenteronrosser.org/event/writing-club/2026-04-29/
CATEGORIES:Mindful Classes
ATTACH;FMTTYPE=image/png:https://thecenteronrosser.org/wp-content/uploads/2026/04/Writing-Club.png
END:VEVENT
BEGIN:VEVENT
DTSTART;TZID=UTC:20260506T120000
DTEND;TZID=UTC:20260506T130000
DTSTAMP:20260422T131540
CREATED:20260415T210111Z
LAST-MODIFIED:20260415T224933Z
UID:10002461-1778068800-1778072400@thecenteronrosser.org
SUMMARY:Writing Club
DESCRIPTION:A relaxed writing group where participants can bring personal writing projects or respond to optional prompts. The class includes quiet writing time with optional sharing in a supportive and encouraging environment. \n**Bring a notebook/journal/laptop. \nClasses are free to Standard and Premium members – $3 for all others
URL:https://thecenteronrosser.org/event/writing-club/2026-05-06/
CATEGORIES:Mindful Classes
ATTACH;FMTTYPE=image/png:https://thecenteronrosser.org/wp-content/uploads/2026/04/Writing-Club.png
END:VEVENT
BEGIN:VEVENT
DTSTART;TZID=UTC:20260513T120000
DTEND;TZID=UTC:20260513T130000
DTSTAMP:20260422T131540
CREATED:20260415T210111Z
LAST-MODIFIED:20260415T224933Z
UID:10002462-1778673600-1778677200@thecenteronrosser.org
SUMMARY:Writing Club
DESCRIPTION:A relaxed writing group where participants can bring personal writing projects or respond to optional prompts. The class includes quiet writing time with optional sharing in a supportive and encouraging environment. \n**Bring a notebook/journal/laptop. \nClasses are free to Standard and Premium members – $3 for all others
URL:https://thecenteronrosser.org/event/writing-club/2026-05-13/
CATEGORIES:Mindful Classes
ATTACH;FMTTYPE=image/png:https://thecenteronrosser.org/wp-content/uploads/2026/04/Writing-Club.png
END:VEVENT
BEGIN:VEVENT
DTSTART;TZID=UTC:20260520T120000
DTEND;TZID=UTC:20260520T130000
DTSTAMP:20260422T131540
CREATED:20260415T210111Z
LAST-MODIFIED:20260415T224933Z
UID:10002463-1779278400-1779282000@thecenteronrosser.org
SUMMARY:Writing Club
DESCRIPTION:A relaxed writing group where participants can bring personal writing projects or respond to optional prompts. The class includes quiet writing time with optional sharing in a supportive and encouraging environment. \n**Bring a notebook/journal/laptop. \nClasses are free to Standard and Premium members – $3 for all others
URL:https://thecenteronrosser.org/event/writing-club/2026-05-20/
CATEGORIES:Mindful Classes
ATTACH;FMTTYPE=image/png:https://thecenteronrosser.org/wp-content/uploads/2026/04/Writing-Club.png
END:VEVENT
BEGIN:VEVENT
DTSTART;TZID=UTC:20260527T120000
DTEND;TZID=UTC:20260527T130000
DTSTAMP:20260422T131540
CREATED:20260415T210111Z
LAST-MODIFIED:20260415T224933Z
UID:10002464-1779883200-1779886800@thecenteronrosser.org
SUMMARY:Writing Club
DESCRIPTION:A relaxed writing group where participants can bring personal writing projects or respond to optional prompts. The class includes quiet writing time with optional sharing in a supportive and encouraging environment. \n**Bring a notebook/journal/laptop. \nClasses are free to Standard and Premium members – $3 for all others
URL:https://thecenteronrosser.org/event/writing-club/2026-05-27/
CATEGORIES:Mindful Classes
ATTACH;FMTTYPE=image/png:https://thecenteronrosser.org/wp-content/uploads/2026/04/Writing-Club.png
END:VEVENT
BEGIN:VEVENT
DTSTART;TZID=UTC:20260603T120000
DTEND;TZID=UTC:20260603T130000
DTSTAMP:20260422T131540
CREATED:20260415T210111Z
LAST-MODIFIED:20260415T224933Z
UID:10002465-1780488000-1780491600@thecenteronrosser.org
SUMMARY:Writing Club
DESCRIPTION:A relaxed writing group where participants can bring personal writing projects or respond to optional prompts. The class includes quiet writing time with optional sharing in a supportive and encouraging environment. \n**Bring a notebook/journal/laptop. \nClasses are free to Standard and Premium members – $3 for all others
URL:https://thecenteronrosser.org/event/writing-club/2026-06-03/
CATEGORIES:Mindful Classes
ATTACH;FMTTYPE=image/png:https://thecenteronrosser.org/wp-content/uploads/2026/04/Writing-Club.png
END:VEVENT
BEGIN:VEVENT
DTSTART;TZID=UTC:20260610T120000
DTEND;TZID=UTC:20260610T130000
DTSTAMP:20260422T131540
CREATED:20260415T210111Z
LAST-MODIFIED:20260415T224933Z
UID:10002466-1781092800-1781096400@thecenteronrosser.org
SUMMARY:Writing Club
DESCRIPTION:A relaxed writing group where participants can bring personal writing projects or respond to optional prompts. The class includes quiet writing time with optional sharing in a supportive and encouraging environment. \n**Bring a notebook/journal/laptop. \nClasses are free to Standard and Premium members – $3 for all others
URL:https://thecenteronrosser.org/event/writing-club/2026-06-10/
CATEGORIES:Mindful Classes
ATTACH;FMTTYPE=image/png:https://thecenteronrosser.org/wp-content/uploads/2026/04/Writing-Club.png
END:VEVENT
BEGIN:VEVENT
DTSTART;TZID=UTC:20260617T120000
DTEND;TZID=UTC:20260617T130000
DTSTAMP:20260422T131540
CREATED:20260415T210111Z
LAST-MODIFIED:20260415T224933Z
UID:10002467-1781697600-1781701200@thecenteronrosser.org
SUMMARY:Writing Club
DESCRIPTION:A relaxed writing group where participants can bring personal writing projects or respond to optional prompts. The class includes quiet writing time with optional sharing in a supportive and encouraging environment. \n**Bring a notebook/journal/laptop. \nClasses are free to Standard and Premium members – $3 for all others
URL:https://thecenteronrosser.org/event/writing-club/2026-06-17/
CATEGORIES:Mindful Classes
ATTACH;FMTTYPE=image/png:https://thecenteronrosser.org/wp-content/uploads/2026/04/Writing-Club.png
END:VEVENT
BEGIN:VEVENT
DTSTART;TZID=UTC:20260624T120000
DTEND;TZID=UTC:20260624T130000
DTSTAMP:20260422T131540
CREATED:20260415T210111Z
LAST-MODIFIED:20260415T224933Z
UID:10002468-1782302400-1782306000@thecenteronrosser.org
SUMMARY:Writing Club
DESCRIPTION:A relaxed writing group where participants can bring personal writing projects or respond to optional prompts. The class includes quiet writing time with optional sharing in a supportive and encouraging environment. \n**Bring a notebook/journal/laptop. \nClasses are free to Standard and Premium members – $3 for all others
URL:https://thecenteronrosser.org/event/writing-club/2026-06-24/
CATEGORIES:Mindful Classes
ATTACH;FMTTYPE=image/png:https://thecenteronrosser.org/wp-content/uploads/2026/04/Writing-Club.png
END:VEVENT
BEGIN:VEVENT
DTSTART;TZID=UTC:20260701T120000
DTEND;TZID=UTC:20260701T130000
DTSTAMP:20260422T131540
CREATED:20260415T210111Z
LAST-MODIFIED:20260415T224933Z
UID:10002469-1782907200-1782910800@thecenteronrosser.org
SUMMARY:Writing Club
DESCRIPTION:A relaxed writing group where participants can bring personal writing projects or respond to optional prompts. The class includes quiet writing time with optional sharing in a supportive and encouraging environment. \n**Bring a notebook/journal/laptop. \nClasses are free to Standard and Premium members – $3 for all others
URL:https://thecenteronrosser.org/event/writing-club/2026-07-01/
CATEGORIES:Mindful Classes
ATTACH;FMTTYPE=image/png:https://thecenteronrosser.org/wp-content/uploads/2026/04/Writing-Club.png
END:VEVENT
BEGIN:VEVENT
DTSTART;TZID=UTC:20260708T120000
DTEND;TZID=UTC:20260708T130000
DTSTAMP:20260422T131540
CREATED:20260415T210111Z
LAST-MODIFIED:20260415T224933Z
UID:10002470-1783512000-1783515600@thecenteronrosser.org
SUMMARY:Writing Club
DESCRIPTION:A relaxed writing group where participants can bring personal writing projects or respond to optional prompts. The class includes quiet writing time with optional sharing in a supportive and encouraging environment. \n**Bring a notebook/journal/laptop. \nClasses are free to Standard and Premium members – $3 for all others
URL:https://thecenteronrosser.org/event/writing-club/2026-07-08/
CATEGORIES:Mindful Classes
ATTACH;FMTTYPE=image/png:https://thecenteronrosser.org/wp-content/uploads/2026/04/Writing-Club.png
END:VEVENT
BEGIN:VEVENT
DTSTART;TZID=UTC:20260715T120000
DTEND;TZID=UTC:20260715T130000
DTSTAMP:20260422T131540
CREATED:20260415T210111Z
LAST-MODIFIED:20260415T224933Z
UID:10002471-1784116800-1784120400@thecenteronrosser.org
SUMMARY:Writing Club
DESCRIPTION:A relaxed writing group where participants can bring personal writing projects or respond to optional prompts. The class includes quiet writing time with optional sharing in a supportive and encouraging environment. \n**Bring a notebook/journal/laptop. \nClasses are free to Standard and Premium members – $3 for all others
URL:https://thecenteronrosser.org/event/writing-club/2026-07-15/
CATEGORIES:Mindful Classes
ATTACH;FMTTYPE=image/png:https://thecenteronrosser.org/wp-content/uploads/2026/04/Writing-Club.png
END:VEVENT
BEGIN:VEVENT
DTSTART;TZID=UTC:20260722T120000
DTEND;TZID=UTC:20260722T130000
DTSTAMP:20260422T131540
CREATED:20260415T210111Z
LAST-MODIFIED:20260415T224933Z
UID:10002472-1784721600-1784725200@thecenteronrosser.org
SUMMARY:Writing Club
DESCRIPTION:A relaxed writing group where participants can bring personal writing projects or respond to optional prompts. The class includes quiet writing time with optional sharing in a supportive and encouraging environment. \n**Bring a notebook/journal/laptop. \nClasses are free to Standard and Premium members – $3 for all others
URL:https://thecenteronrosser.org/event/writing-club/2026-07-22/
CATEGORIES:Mindful Classes
ATTACH;FMTTYPE=image/png:https://thecenteronrosser.org/wp-content/uploads/2026/04/Writing-Club.png
END:VEVENT
BEGIN:VEVENT
DTSTART;TZID=UTC:20260729T120000
DTEND;TZID=UTC:20260729T130000
DTSTAMP:20260422T131540
CREATED:20260415T210111Z
LAST-MODIFIED:20260415T224933Z
UID:10002473-1785326400-1785330000@thecenteronrosser.org
SUMMARY:Writing Club
DESCRIPTION:A relaxed writing group where participants can bring personal writing projects or respond to optional prompts. The class includes quiet writing time with optional sharing in a supportive and encouraging environment. \n**Bring a notebook/journal/laptop. \nClasses are free to Standard and Premium members – $3 for all others
URL:https://thecenteronrosser.org/event/writing-club/2026-07-29/
CATEGORIES:Mindful Classes
ATTACH;FMTTYPE=image/png:https://thecenteronrosser.org/wp-content/uploads/2026/04/Writing-Club.png
END:VEVENT
BEGIN:VEVENT
DTSTART;TZID=UTC:20260805T120000
DTEND;TZID=UTC:20260805T130000
DTSTAMP:20260422T131540
CREATED:20260415T210111Z
LAST-MODIFIED:20260415T224933Z
UID:10002474-1785931200-1785934800@thecenteronrosser.org
SUMMARY:Writing Club
DESCRIPTION:A relaxed writing group where participants can bring personal writing projects or respond to optional prompts. The class includes quiet writing time with optional sharing in a supportive and encouraging environment. \n**Bring a notebook/journal/laptop. \nClasses are free to Standard and Premium members – $3 for all others
URL:https://thecenteronrosser.org/event/writing-club/2026-08-05/
CATEGORIES:Mindful Classes
ATTACH;FMTTYPE=image/png:https://thecenteronrosser.org/wp-content/uploads/2026/04/Writing-Club.png
END:VEVENT
BEGIN:VEVENT
DTSTART;TZID=UTC:20260812T120000
DTEND;TZID=UTC:20260812T130000
DTSTAMP:20260422T131540
CREATED:20260415T210111Z
LAST-MODIFIED:20260415T224933Z
UID:10002475-1786536000-1786539600@thecenteronrosser.org
SUMMARY:Writing Club
DESCRIPTION:A relaxed writing group where participants can bring personal writing projects or respond to optional prompts. The class includes quiet writing time with optional sharing in a supportive and encouraging environment. \n**Bring a notebook/journal/laptop. \nClasses are free to Standard and Premium members – $3 for all others
URL:https://thecenteronrosser.org/event/writing-club/2026-08-12/
CATEGORIES:Mindful Classes
ATTACH;FMTTYPE=image/png:https://thecenteronrosser.org/wp-content/uploads/2026/04/Writing-Club.png
END:VEVENT
BEGIN:VEVENT
DTSTART;TZID=UTC:20260819T120000
DTEND;TZID=UTC:20260819T130000
DTSTAMP:20260422T131540
CREATED:20260415T210111Z
LAST-MODIFIED:20260415T224933Z
UID:10002476-1787140800-1787144400@thecenteronrosser.org
SUMMARY:Writing Club
DESCRIPTION:A relaxed writing group where participants can bring personal writing projects or respond to optional prompts. The class includes quiet writing time with optional sharing in a supportive and encouraging environment. \n**Bring a notebook/journal/laptop. \nClasses are free to Standard and Premium members – $3 for all others
URL:https://thecenteronrosser.org/event/writing-club/2026-08-19/
CATEGORIES:Mindful Classes
ATTACH;FMTTYPE=image/png:https://thecenteronrosser.org/wp-content/uploads/2026/04/Writing-Club.png
END:VEVENT
BEGIN:VEVENT
DTSTART;TZID=UTC:20260826T120000
DTEND;TZID=UTC:20260826T130000
DTSTAMP:20260422T131540
CREATED:20260415T210111Z
LAST-MODIFIED:20260415T224933Z
UID:10002477-1787745600-1787749200@thecenteronrosser.org
SUMMARY:Writing Club
DESCRIPTION:A relaxed writing group where participants can bring personal writing projects or respond to optional prompts. The class includes quiet writing time with optional sharing in a supportive and encouraging environment. \n**Bring a notebook/journal/laptop. \nClasses are free to Standard and Premium members – $3 for all others
URL:https://thecenteronrosser.org/event/writing-club/2026-08-26/
CATEGORIES:Mindful Classes
ATTACH;FMTTYPE=image/png:https://thecenteronrosser.org/wp-content/uploads/2026/04/Writing-Club.png
END:VEVENT
BEGIN:VEVENT
DTSTART;TZID=UTC:20260902T120000
DTEND;TZID=UTC:20260902T130000
DTSTAMP:20260422T131540
CREATED:20260415T210111Z
LAST-MODIFIED:20260415T224933Z
UID:10002478-1788350400-1788354000@thecenteronrosser.org
SUMMARY:Writing Club
DESCRIPTION:A relaxed writing group where participants can bring personal writing projects or respond to optional prompts. The class includes quiet writing time with optional sharing in a supportive and encouraging environment. \n**Bring a notebook/journal/laptop. \nClasses are free to Standard and Premium members – $3 for all others
URL:https://thecenteronrosser.org/event/writing-club/2026-09-02/
CATEGORIES:Mindful Classes
ATTACH;FMTTYPE=image/png:https://thecenteronrosser.org/wp-content/uploads/2026/04/Writing-Club.png
END:VEVENT
BEGIN:VEVENT
DTSTART;TZID=UTC:20260909T120000
DTEND;TZID=UTC:20260909T130000
DTSTAMP:20260422T131540
CREATED:20260415T210111Z
LAST-MODIFIED:20260415T224933Z
UID:10002479-1788955200-1788958800@thecenteronrosser.org
SUMMARY:Writing Club
DESCRIPTION:A relaxed writing group where participants can bring personal writing projects or respond to optional prompts. The class includes quiet writing time with optional sharing in a supportive and encouraging environment. \n**Bring a notebook/journal/laptop. \nClasses are free to Standard and Premium members – $3 for all others
URL:https://thecenteronrosser.org/event/writing-club/2026-09-09/
CATEGORIES:Mindful Classes
ATTACH;FMTTYPE=image/png:https://thecenteronrosser.org/wp-content/uploads/2026/04/Writing-Club.png
END:VEVENT
BEGIN:VEVENT
DTSTART;TZID=UTC:20260916T120000
DTEND;TZID=UTC:20260916T130000
DTSTAMP:20260422T131540
CREATED:20260415T210111Z
LAST-MODIFIED:20260415T224933Z
UID:10002480-1789560000-1789563600@thecenteronrosser.org
SUMMARY:Writing Club
DESCRIPTION:A relaxed writing group where participants can bring personal writing projects or respond to optional prompts. The class includes quiet writing time with optional sharing in a supportive and encouraging environment. \n**Bring a notebook/journal/laptop. \nClasses are free to Standard and Premium members – $3 for all others
URL:https://thecenteronrosser.org/event/writing-club/2026-09-16/
CATEGORIES:Mindful Classes
ATTACH;FMTTYPE=image/png:https://thecenteronrosser.org/wp-content/uploads/2026/04/Writing-Club.png
END:VEVENT
BEGIN:VEVENT
DTSTART;TZID=UTC:20260923T120000
DTEND;TZID=UTC:20260923T130000
DTSTAMP:20260422T131540
CREATED:20260415T210111Z
LAST-MODIFIED:20260415T224933Z
UID:10002481-1790164800-1790168400@thecenteronrosser.org
SUMMARY:Writing Club
DESCRIPTION:A relaxed writing group where participants can bring personal writing projects or respond to optional prompts. The class includes quiet writing time with optional sharing in a supportive and encouraging environment. \n**Bring a notebook/journal/laptop. \nClasses are free to Standard and Premium members – $3 for all others
URL:https://thecenteronrosser.org/event/writing-club/2026-09-23/
CATEGORIES:Mindful Classes
ATTACH;FMTTYPE=image/png:https://thecenteronrosser.org/wp-content/uploads/2026/04/Writing-Club.png
END:VEVENT
BEGIN:VEVENT
DTSTART;TZID=UTC:20260930T120000
DTEND;TZID=UTC:20260930T130000
DTSTAMP:20260422T131540
CREATED:20260415T210111Z
LAST-MODIFIED:20260415T224933Z
UID:10002482-1790769600-1790773200@thecenteronrosser.org
SUMMARY:Writing Club
DESCRIPTION:A relaxed writing group where participants can bring personal writing projects or respond to optional prompts. The class includes quiet writing time with optional sharing in a supportive and encouraging environment. \n**Bring a notebook/journal/laptop. \nClasses are free to Standard and Premium members – $3 for all others
URL:https://thecenteronrosser.org/event/writing-club/2026-09-30/
CATEGORIES:Mindful Classes
ATTACH;FMTTYPE=image/png:https://thecenteronrosser.org/wp-content/uploads/2026/04/Writing-Club.png
END:VEVENT
BEGIN:VEVENT
DTSTART;TZID=UTC:20261007T120000
DTEND;TZID=UTC:20261007T130000
DTSTAMP:20260422T131540
CREATED:20260415T210111Z
LAST-MODIFIED:20260415T224933Z
UID:10002483-1791374400-1791378000@thecenteronrosser.org
SUMMARY:Writing Club
DESCRIPTION:A relaxed writing group where participants can bring personal writing projects or respond to optional prompts. The class includes quiet writing time with optional sharing in a supportive and encouraging environment. \n**Bring a notebook/journal/laptop. \nClasses are free to Standard and Premium members – $3 for all others
URL:https://thecenteronrosser.org/event/writing-club/2026-10-07/
CATEGORIES:Mindful Classes
ATTACH;FMTTYPE=image/png:https://thecenteronrosser.org/wp-content/uploads/2026/04/Writing-Club.png
END:VEVENT
BEGIN:VEVENT
DTSTART;TZID=UTC:20261014T120000
DTEND;TZID=UTC:20261014T130000
DTSTAMP:20260422T131540
CREATED:20260415T210111Z
LAST-MODIFIED:20260415T224933Z
UID:10002484-1791979200-1791982800@thecenteronrosser.org
SUMMARY:Writing Club
DESCRIPTION:A relaxed writing group where participants can bring personal writing projects or respond to optional prompts. The class includes quiet writing time with optional sharing in a supportive and encouraging environment. \n**Bring a notebook/journal/laptop. \nClasses are free to Standard and Premium members – $3 for all others
URL:https://thecenteronrosser.org/event/writing-club/2026-10-14/
CATEGORIES:Mindful Classes
ATTACH;FMTTYPE=image/png:https://thecenteronrosser.org/wp-content/uploads/2026/04/Writing-Club.png
END:VEVENT
BEGIN:VEVENT
DTSTART;TZID=UTC:20261021T120000
DTEND;TZID=UTC:20261021T130000
DTSTAMP:20260422T131540
CREATED:20260415T210111Z
LAST-MODIFIED:20260415T224933Z
UID:10002485-1792584000-1792587600@thecenteronrosser.org
SUMMARY:Writing Club
DESCRIPTION:A relaxed writing group where participants can bring personal writing projects or respond to optional prompts. The class includes quiet writing time with optional sharing in a supportive and encouraging environment. \n**Bring a notebook/journal/laptop. \nClasses are free to Standard and Premium members – $3 for all others
URL:https://thecenteronrosser.org/event/writing-club/2026-10-21/
CATEGORIES:Mindful Classes
ATTACH;FMTTYPE=image/png:https://thecenteronrosser.org/wp-content/uploads/2026/04/Writing-Club.png
END:VEVENT
BEGIN:VEVENT
DTSTART;TZID=UTC:20261028T120000
DTEND;TZID=UTC:20261028T130000
DTSTAMP:20260422T131540
CREATED:20260415T210111Z
LAST-MODIFIED:20260415T224933Z
UID:10002486-1793188800-1793192400@thecenteronrosser.org
SUMMARY:Writing Club
DESCRIPTION:A relaxed writing group where participants can bring personal writing projects or respond to optional prompts. The class includes quiet writing time with optional sharing in a supportive and encouraging environment. \n**Bring a notebook/journal/laptop. \nClasses are free to Standard and Premium members – $3 for all others
URL:https://thecenteronrosser.org/event/writing-club/2026-10-28/
CATEGORIES:Mindful Classes
ATTACH;FMTTYPE=image/png:https://thecenteronrosser.org/wp-content/uploads/2026/04/Writing-Club.png
END:VEVENT
BEGIN:VEVENT
DTSTART;TZID=UTC:20261104T120000
DTEND;TZID=UTC:20261104T130000
DTSTAMP:20260422T131540
CREATED:20260415T210111Z
LAST-MODIFIED:20260415T224933Z
UID:10002487-1793793600-1793797200@thecenteronrosser.org
SUMMARY:Writing Club
DESCRIPTION:A relaxed writing group where participants can bring personal writing projects or respond to optional prompts. The class includes quiet writing time with optional sharing in a supportive and encouraging environment. \n**Bring a notebook/journal/laptop. \nClasses are free to Standard and Premium members – $3 for all others
URL:https://thecenteronrosser.org/event/writing-club/2026-11-04/
CATEGORIES:Mindful Classes
ATTACH;FMTTYPE=image/png:https://thecenteronrosser.org/wp-content/uploads/2026/04/Writing-Club.png
END:VEVENT
BEGIN:VEVENT
DTSTART;TZID=UTC:20261111T120000
DTEND;TZID=UTC:20261111T130000
DTSTAMP:20260422T131540
CREATED:20260415T210111Z
LAST-MODIFIED:20260415T224933Z
UID:10002488-1794398400-1794402000@thecenteronrosser.org
SUMMARY:Writing Club
DESCRIPTION:A relaxed writing group where participants can bring personal writing projects or respond to optional prompts. The class includes quiet writing time with optional sharing in a supportive and encouraging environment. \n**Bring a notebook/journal/laptop. \nClasses are free to Standard and Premium members – $3 for all others
URL:https://thecenteronrosser.org/event/writing-club/2026-11-11/
CATEGORIES:Mindful Classes
ATTACH;FMTTYPE=image/png:https://thecenteronrosser.org/wp-content/uploads/2026/04/Writing-Club.png
END:VEVENT
BEGIN:VEVENT
DTSTART;TZID=UTC:20261118T120000
DTEND;TZID=UTC:20261118T130000
DTSTAMP:20260422T131540
CREATED:20260415T210111Z
LAST-MODIFIED:20260415T224933Z
UID:10002489-1795003200-1795006800@thecenteronrosser.org
SUMMARY:Writing Club
DESCRIPTION:A relaxed writing group where participants can bring personal writing projects or respond to optional prompts. The class includes quiet writing time with optional sharing in a supportive and encouraging environment. \n**Bring a notebook/journal/laptop. \nClasses are free to Standard and Premium members – $3 for all others
URL:https://thecenteronrosser.org/event/writing-club/2026-11-18/
CATEGORIES:Mindful Classes
ATTACH;FMTTYPE=image/png:https://thecenteronrosser.org/wp-content/uploads/2026/04/Writing-Club.png
END:VEVENT
END:VCALENDAR