BEGIN:VCALENDAR
VERSION:2.0
PRODID:-//The Center on Rosser - ECPv6.15.20//NONSGML v1.0//EN
CALSCALE:GREGORIAN
METHOD:PUBLISH
X-WR-CALNAME:The Center on Rosser
X-ORIGINAL-URL:https://thecenteronrosser.org
X-WR-CALDESC:Events for The Center on Rosser
REFRESH-INTERVAL;VALUE=DURATION:PT1H
X-Robots-Tag:noindex
X-PUBLISHED-TTL:PT1H
BEGIN:VTIMEZONE
TZID:UTC
BEGIN:STANDARD
TZOFFSETFROM:+0000
TZOFFSETTO:+0000
TZNAME:UTC
DTSTART:20250101T000000
END:STANDARD
END:VTIMEZONE
BEGIN:VEVENT
DTSTART;TZID=UTC:20260423T090000
DTEND;TZID=UTC:20260423T100000
DTSTAMP:20260422T132348
CREATED:20260417T023638Z
LAST-MODIFIED:20260417T023638Z
UID:10004811-1776934800-1776938400@thecenteronrosser.org
SUMMARY:Strength and Balance w/Joy -1hr
DESCRIPTION:A welcoming\, low-impact class focused on improving the physical pillars of independence: strength\, balance\, and coordination. This class combines seated and standing exercises to help you move with more confidence in your daily life\, whether you’re reaching for a cupboard\, walking in the park\, or playing with grandkids.
URL:https://thecenteronrosser.org/event/strength-and-balance-w-joy-1hr/2026-04-23/
CATEGORIES:Basic Fitness
ATTACH;FMTTYPE=image/png:https://thecenteronrosser.org/wp-content/uploads/2026/04/strengthbalance.png
END:VEVENT
BEGIN:VEVENT
DTSTART;TZID=UTC:20260429T093000
DTEND;TZID=UTC:20260429T103000
DTSTAMP:20260422T132348
CREATED:20260417T163750Z
LAST-MODIFIED:20260417T163750Z
UID:10006118-1777455000-1777458600@thecenteronrosser.org
SUMMARY:Strength and Balance w/Joy -1hr
DESCRIPTION:A welcoming\, low-impact class focused on improving the physical pillars of independence: strength\, balance\, and coordination. This class combines seated and standing exercises to help you move with more confidence in your daily life\, whether you’re reaching for a cupboard\, walking in the park\, or playing with grandkids.
URL:https://thecenteronrosser.org/event/strength-and-balance-w-joy-1hr-2/2026-04-29/
CATEGORIES:Basic Fitness
ATTACH;FMTTYPE=image/png:https://thecenteronrosser.org/wp-content/uploads/2026/04/strengthbalance.png
END:VEVENT
BEGIN:VEVENT
DTSTART;TZID=UTC:20260430T090000
DTEND;TZID=UTC:20260430T100000
DTSTAMP:20260422T132348
CREATED:20260417T023638Z
LAST-MODIFIED:20260417T023638Z
UID:10004812-1777539600-1777543200@thecenteronrosser.org
SUMMARY:Strength and Balance w/Joy -1hr
DESCRIPTION:A welcoming\, low-impact class focused on improving the physical pillars of independence: strength\, balance\, and coordination. This class combines seated and standing exercises to help you move with more confidence in your daily life\, whether you’re reaching for a cupboard\, walking in the park\, or playing with grandkids.
URL:https://thecenteronrosser.org/event/strength-and-balance-w-joy-1hr/2026-04-30/
CATEGORIES:Basic Fitness
ATTACH;FMTTYPE=image/png:https://thecenteronrosser.org/wp-content/uploads/2026/04/strengthbalance.png
END:VEVENT
BEGIN:VEVENT
DTSTART;TZID=UTC:20260506T093000
DTEND;TZID=UTC:20260506T103000
DTSTAMP:20260422T132348
CREATED:20260417T163750Z
LAST-MODIFIED:20260417T163750Z
UID:10006119-1778059800-1778063400@thecenteronrosser.org
SUMMARY:Strength and Balance w/Joy -1hr
DESCRIPTION:A welcoming\, low-impact class focused on improving the physical pillars of independence: strength\, balance\, and coordination. This class combines seated and standing exercises to help you move with more confidence in your daily life\, whether you’re reaching for a cupboard\, walking in the park\, or playing with grandkids.
URL:https://thecenteronrosser.org/event/strength-and-balance-w-joy-1hr-2/2026-05-06/
CATEGORIES:Basic Fitness
ATTACH;FMTTYPE=image/png:https://thecenteronrosser.org/wp-content/uploads/2026/04/strengthbalance.png
END:VEVENT
BEGIN:VEVENT
DTSTART;TZID=UTC:20260507T090000
DTEND;TZID=UTC:20260507T100000
DTSTAMP:20260422T132348
CREATED:20260417T023638Z
LAST-MODIFIED:20260417T023638Z
UID:10004813-1778144400-1778148000@thecenteronrosser.org
SUMMARY:Strength and Balance w/Joy -1hr
DESCRIPTION:A welcoming\, low-impact class focused on improving the physical pillars of independence: strength\, balance\, and coordination. This class combines seated and standing exercises to help you move with more confidence in your daily life\, whether you’re reaching for a cupboard\, walking in the park\, or playing with grandkids.
URL:https://thecenteronrosser.org/event/strength-and-balance-w-joy-1hr/2026-05-07/
CATEGORIES:Basic Fitness
ATTACH;FMTTYPE=image/png:https://thecenteronrosser.org/wp-content/uploads/2026/04/strengthbalance.png
END:VEVENT
BEGIN:VEVENT
DTSTART;TZID=UTC:20260513T093000
DTEND;TZID=UTC:20260513T103000
DTSTAMP:20260422T132348
CREATED:20260417T163750Z
LAST-MODIFIED:20260417T163750Z
UID:10006120-1778664600-1778668200@thecenteronrosser.org
SUMMARY:Strength and Balance w/Joy -1hr
DESCRIPTION:A welcoming\, low-impact class focused on improving the physical pillars of independence: strength\, balance\, and coordination. This class combines seated and standing exercises to help you move with more confidence in your daily life\, whether you’re reaching for a cupboard\, walking in the park\, or playing with grandkids.
URL:https://thecenteronrosser.org/event/strength-and-balance-w-joy-1hr-2/2026-05-13/
CATEGORIES:Basic Fitness
ATTACH;FMTTYPE=image/png:https://thecenteronrosser.org/wp-content/uploads/2026/04/strengthbalance.png
END:VEVENT
BEGIN:VEVENT
DTSTART;TZID=UTC:20260514T090000
DTEND;TZID=UTC:20260514T100000
DTSTAMP:20260422T132348
CREATED:20260417T023638Z
LAST-MODIFIED:20260417T023638Z
UID:10004814-1778749200-1778752800@thecenteronrosser.org
SUMMARY:Strength and Balance w/Joy -1hr
DESCRIPTION:A welcoming\, low-impact class focused on improving the physical pillars of independence: strength\, balance\, and coordination. This class combines seated and standing exercises to help you move with more confidence in your daily life\, whether you’re reaching for a cupboard\, walking in the park\, or playing with grandkids.
URL:https://thecenteronrosser.org/event/strength-and-balance-w-joy-1hr/2026-05-14/
CATEGORIES:Basic Fitness
ATTACH;FMTTYPE=image/png:https://thecenteronrosser.org/wp-content/uploads/2026/04/strengthbalance.png
END:VEVENT
BEGIN:VEVENT
DTSTART;TZID=UTC:20260520T093000
DTEND;TZID=UTC:20260520T103000
DTSTAMP:20260422T132348
CREATED:20260417T163750Z
LAST-MODIFIED:20260417T163750Z
UID:10006121-1779269400-1779273000@thecenteronrosser.org
SUMMARY:Strength and Balance w/Joy -1hr
DESCRIPTION:A welcoming\, low-impact class focused on improving the physical pillars of independence: strength\, balance\, and coordination. This class combines seated and standing exercises to help you move with more confidence in your daily life\, whether you’re reaching for a cupboard\, walking in the park\, or playing with grandkids.
URL:https://thecenteronrosser.org/event/strength-and-balance-w-joy-1hr-2/2026-05-20/
CATEGORIES:Basic Fitness
ATTACH;FMTTYPE=image/png:https://thecenteronrosser.org/wp-content/uploads/2026/04/strengthbalance.png
END:VEVENT
BEGIN:VEVENT
DTSTART;TZID=UTC:20260521T090000
DTEND;TZID=UTC:20260521T100000
DTSTAMP:20260422T132348
CREATED:20260417T023638Z
LAST-MODIFIED:20260417T023638Z
UID:10004815-1779354000-1779357600@thecenteronrosser.org
SUMMARY:Strength and Balance w/Joy -1hr
DESCRIPTION:A welcoming\, low-impact class focused on improving the physical pillars of independence: strength\, balance\, and coordination. This class combines seated and standing exercises to help you move with more confidence in your daily life\, whether you’re reaching for a cupboard\, walking in the park\, or playing with grandkids.
URL:https://thecenteronrosser.org/event/strength-and-balance-w-joy-1hr/2026-05-21/
CATEGORIES:Basic Fitness
ATTACH;FMTTYPE=image/png:https://thecenteronrosser.org/wp-content/uploads/2026/04/strengthbalance.png
END:VEVENT
BEGIN:VEVENT
DTSTART;TZID=UTC:20260527T093000
DTEND;TZID=UTC:20260527T103000
DTSTAMP:20260422T132348
CREATED:20260417T163750Z
LAST-MODIFIED:20260417T163750Z
UID:10006122-1779874200-1779877800@thecenteronrosser.org
SUMMARY:Strength and Balance w/Joy -1hr
DESCRIPTION:A welcoming\, low-impact class focused on improving the physical pillars of independence: strength\, balance\, and coordination. This class combines seated and standing exercises to help you move with more confidence in your daily life\, whether you’re reaching for a cupboard\, walking in the park\, or playing with grandkids.
URL:https://thecenteronrosser.org/event/strength-and-balance-w-joy-1hr-2/2026-05-27/
CATEGORIES:Basic Fitness
ATTACH;FMTTYPE=image/png:https://thecenteronrosser.org/wp-content/uploads/2026/04/strengthbalance.png
END:VEVENT
BEGIN:VEVENT
DTSTART;TZID=UTC:20260528T090000
DTEND;TZID=UTC:20260528T100000
DTSTAMP:20260422T132348
CREATED:20260417T023638Z
LAST-MODIFIED:20260417T023638Z
UID:10004816-1779958800-1779962400@thecenteronrosser.org
SUMMARY:Strength and Balance w/Joy -1hr
DESCRIPTION:A welcoming\, low-impact class focused on improving the physical pillars of independence: strength\, balance\, and coordination. This class combines seated and standing exercises to help you move with more confidence in your daily life\, whether you’re reaching for a cupboard\, walking in the park\, or playing with grandkids.
URL:https://thecenteronrosser.org/event/strength-and-balance-w-joy-1hr/2026-05-28/
CATEGORIES:Basic Fitness
ATTACH;FMTTYPE=image/png:https://thecenteronrosser.org/wp-content/uploads/2026/04/strengthbalance.png
END:VEVENT
BEGIN:VEVENT
DTSTART;TZID=UTC:20260603T093000
DTEND;TZID=UTC:20260603T103000
DTSTAMP:20260422T132348
CREATED:20260417T163750Z
LAST-MODIFIED:20260417T163750Z
UID:10006123-1780479000-1780482600@thecenteronrosser.org
SUMMARY:Strength and Balance w/Joy -1hr
DESCRIPTION:A welcoming\, low-impact class focused on improving the physical pillars of independence: strength\, balance\, and coordination. This class combines seated and standing exercises to help you move with more confidence in your daily life\, whether you’re reaching for a cupboard\, walking in the park\, or playing with grandkids.
URL:https://thecenteronrosser.org/event/strength-and-balance-w-joy-1hr-2/2026-06-03/
CATEGORIES:Basic Fitness
ATTACH;FMTTYPE=image/png:https://thecenteronrosser.org/wp-content/uploads/2026/04/strengthbalance.png
END:VEVENT
BEGIN:VEVENT
DTSTART;TZID=UTC:20260604T090000
DTEND;TZID=UTC:20260604T100000
DTSTAMP:20260422T132348
CREATED:20260417T023638Z
LAST-MODIFIED:20260417T023638Z
UID:10004817-1780563600-1780567200@thecenteronrosser.org
SUMMARY:Strength and Balance w/Joy -1hr
DESCRIPTION:A welcoming\, low-impact class focused on improving the physical pillars of independence: strength\, balance\, and coordination. This class combines seated and standing exercises to help you move with more confidence in your daily life\, whether you’re reaching for a cupboard\, walking in the park\, or playing with grandkids.
URL:https://thecenteronrosser.org/event/strength-and-balance-w-joy-1hr/2026-06-04/
CATEGORIES:Basic Fitness
ATTACH;FMTTYPE=image/png:https://thecenteronrosser.org/wp-content/uploads/2026/04/strengthbalance.png
END:VEVENT
BEGIN:VEVENT
DTSTART;TZID=UTC:20260610T093000
DTEND;TZID=UTC:20260610T103000
DTSTAMP:20260422T132348
CREATED:20260417T163750Z
LAST-MODIFIED:20260417T163750Z
UID:10006124-1781083800-1781087400@thecenteronrosser.org
SUMMARY:Strength and Balance w/Joy -1hr
DESCRIPTION:A welcoming\, low-impact class focused on improving the physical pillars of independence: strength\, balance\, and coordination. This class combines seated and standing exercises to help you move with more confidence in your daily life\, whether you’re reaching for a cupboard\, walking in the park\, or playing with grandkids.
URL:https://thecenteronrosser.org/event/strength-and-balance-w-joy-1hr-2/2026-06-10/
CATEGORIES:Basic Fitness
ATTACH;FMTTYPE=image/png:https://thecenteronrosser.org/wp-content/uploads/2026/04/strengthbalance.png
END:VEVENT
BEGIN:VEVENT
DTSTART;TZID=UTC:20260611T090000
DTEND;TZID=UTC:20260611T100000
DTSTAMP:20260422T132348
CREATED:20260417T023638Z
LAST-MODIFIED:20260417T023638Z
UID:10004818-1781168400-1781172000@thecenteronrosser.org
SUMMARY:Strength and Balance w/Joy -1hr
DESCRIPTION:A welcoming\, low-impact class focused on improving the physical pillars of independence: strength\, balance\, and coordination. This class combines seated and standing exercises to help you move with more confidence in your daily life\, whether you’re reaching for a cupboard\, walking in the park\, or playing with grandkids.
URL:https://thecenteronrosser.org/event/strength-and-balance-w-joy-1hr/2026-06-11/
CATEGORIES:Basic Fitness
ATTACH;FMTTYPE=image/png:https://thecenteronrosser.org/wp-content/uploads/2026/04/strengthbalance.png
END:VEVENT
BEGIN:VEVENT
DTSTART;TZID=UTC:20260617T093000
DTEND;TZID=UTC:20260617T103000
DTSTAMP:20260422T132348
CREATED:20260417T163750Z
LAST-MODIFIED:20260417T163750Z
UID:10006125-1781688600-1781692200@thecenteronrosser.org
SUMMARY:Strength and Balance w/Joy -1hr
DESCRIPTION:A welcoming\, low-impact class focused on improving the physical pillars of independence: strength\, balance\, and coordination. This class combines seated and standing exercises to help you move with more confidence in your daily life\, whether you’re reaching for a cupboard\, walking in the park\, or playing with grandkids.
URL:https://thecenteronrosser.org/event/strength-and-balance-w-joy-1hr-2/2026-06-17/
CATEGORIES:Basic Fitness
ATTACH;FMTTYPE=image/png:https://thecenteronrosser.org/wp-content/uploads/2026/04/strengthbalance.png
END:VEVENT
BEGIN:VEVENT
DTSTART;TZID=UTC:20260618T090000
DTEND;TZID=UTC:20260618T100000
DTSTAMP:20260422T132348
CREATED:20260417T023638Z
LAST-MODIFIED:20260417T023638Z
UID:10004819-1781773200-1781776800@thecenteronrosser.org
SUMMARY:Strength and Balance w/Joy -1hr
DESCRIPTION:A welcoming\, low-impact class focused on improving the physical pillars of independence: strength\, balance\, and coordination. This class combines seated and standing exercises to help you move with more confidence in your daily life\, whether you’re reaching for a cupboard\, walking in the park\, or playing with grandkids.
URL:https://thecenteronrosser.org/event/strength-and-balance-w-joy-1hr/2026-06-18/
CATEGORIES:Basic Fitness
ATTACH;FMTTYPE=image/png:https://thecenteronrosser.org/wp-content/uploads/2026/04/strengthbalance.png
END:VEVENT
BEGIN:VEVENT
DTSTART;TZID=UTC:20260624T093000
DTEND;TZID=UTC:20260624T103000
DTSTAMP:20260422T132348
CREATED:20260417T163750Z
LAST-MODIFIED:20260417T163750Z
UID:10006126-1782293400-1782297000@thecenteronrosser.org
SUMMARY:Strength and Balance w/Joy -1hr
DESCRIPTION:A welcoming\, low-impact class focused on improving the physical pillars of independence: strength\, balance\, and coordination. This class combines seated and standing exercises to help you move with more confidence in your daily life\, whether you’re reaching for a cupboard\, walking in the park\, or playing with grandkids.
URL:https://thecenteronrosser.org/event/strength-and-balance-w-joy-1hr-2/2026-06-24/
CATEGORIES:Basic Fitness
ATTACH;FMTTYPE=image/png:https://thecenteronrosser.org/wp-content/uploads/2026/04/strengthbalance.png
END:VEVENT
BEGIN:VEVENT
DTSTART;TZID=UTC:20260625T090000
DTEND;TZID=UTC:20260625T100000
DTSTAMP:20260422T132348
CREATED:20260417T023638Z
LAST-MODIFIED:20260417T023638Z
UID:10004820-1782378000-1782381600@thecenteronrosser.org
SUMMARY:Strength and Balance w/Joy -1hr
DESCRIPTION:A welcoming\, low-impact class focused on improving the physical pillars of independence: strength\, balance\, and coordination. This class combines seated and standing exercises to help you move with more confidence in your daily life\, whether you’re reaching for a cupboard\, walking in the park\, or playing with grandkids.
URL:https://thecenteronrosser.org/event/strength-and-balance-w-joy-1hr/2026-06-25/
CATEGORIES:Basic Fitness
ATTACH;FMTTYPE=image/png:https://thecenteronrosser.org/wp-content/uploads/2026/04/strengthbalance.png
END:VEVENT
BEGIN:VEVENT
DTSTART;TZID=UTC:20260701T093000
DTEND;TZID=UTC:20260701T103000
DTSTAMP:20260422T132348
CREATED:20260417T163750Z
LAST-MODIFIED:20260417T163750Z
UID:10006127-1782898200-1782901800@thecenteronrosser.org
SUMMARY:Strength and Balance w/Joy -1hr
DESCRIPTION:A welcoming\, low-impact class focused on improving the physical pillars of independence: strength\, balance\, and coordination. This class combines seated and standing exercises to help you move with more confidence in your daily life\, whether you’re reaching for a cupboard\, walking in the park\, or playing with grandkids.
URL:https://thecenteronrosser.org/event/strength-and-balance-w-joy-1hr-2/2026-07-01/
CATEGORIES:Basic Fitness
ATTACH;FMTTYPE=image/png:https://thecenteronrosser.org/wp-content/uploads/2026/04/strengthbalance.png
END:VEVENT
BEGIN:VEVENT
DTSTART;TZID=UTC:20260702T090000
DTEND;TZID=UTC:20260702T100000
DTSTAMP:20260422T132348
CREATED:20260417T023638Z
LAST-MODIFIED:20260417T023638Z
UID:10004821-1782982800-1782986400@thecenteronrosser.org
SUMMARY:Strength and Balance w/Joy -1hr
DESCRIPTION:A welcoming\, low-impact class focused on improving the physical pillars of independence: strength\, balance\, and coordination. This class combines seated and standing exercises to help you move with more confidence in your daily life\, whether you’re reaching for a cupboard\, walking in the park\, or playing with grandkids.
URL:https://thecenteronrosser.org/event/strength-and-balance-w-joy-1hr/2026-07-02/
CATEGORIES:Basic Fitness
ATTACH;FMTTYPE=image/png:https://thecenteronrosser.org/wp-content/uploads/2026/04/strengthbalance.png
END:VEVENT
BEGIN:VEVENT
DTSTART;TZID=UTC:20260708T093000
DTEND;TZID=UTC:20260708T103000
DTSTAMP:20260422T132348
CREATED:20260417T163750Z
LAST-MODIFIED:20260417T163750Z
UID:10006128-1783503000-1783506600@thecenteronrosser.org
SUMMARY:Strength and Balance w/Joy -1hr
DESCRIPTION:A welcoming\, low-impact class focused on improving the physical pillars of independence: strength\, balance\, and coordination. This class combines seated and standing exercises to help you move with more confidence in your daily life\, whether you’re reaching for a cupboard\, walking in the park\, or playing with grandkids.
URL:https://thecenteronrosser.org/event/strength-and-balance-w-joy-1hr-2/2026-07-08/
CATEGORIES:Basic Fitness
ATTACH;FMTTYPE=image/png:https://thecenteronrosser.org/wp-content/uploads/2026/04/strengthbalance.png
END:VEVENT
BEGIN:VEVENT
DTSTART;TZID=UTC:20260709T090000
DTEND;TZID=UTC:20260709T100000
DTSTAMP:20260422T132348
CREATED:20260417T023638Z
LAST-MODIFIED:20260417T023638Z
UID:10004822-1783587600-1783591200@thecenteronrosser.org
SUMMARY:Strength and Balance w/Joy -1hr
DESCRIPTION:A welcoming\, low-impact class focused on improving the physical pillars of independence: strength\, balance\, and coordination. This class combines seated and standing exercises to help you move with more confidence in your daily life\, whether you’re reaching for a cupboard\, walking in the park\, or playing with grandkids.
URL:https://thecenteronrosser.org/event/strength-and-balance-w-joy-1hr/2026-07-09/
CATEGORIES:Basic Fitness
ATTACH;FMTTYPE=image/png:https://thecenteronrosser.org/wp-content/uploads/2026/04/strengthbalance.png
END:VEVENT
BEGIN:VEVENT
DTSTART;TZID=UTC:20260715T093000
DTEND;TZID=UTC:20260715T103000
DTSTAMP:20260422T132348
CREATED:20260417T163750Z
LAST-MODIFIED:20260417T163750Z
UID:10006129-1784107800-1784111400@thecenteronrosser.org
SUMMARY:Strength and Balance w/Joy -1hr
DESCRIPTION:A welcoming\, low-impact class focused on improving the physical pillars of independence: strength\, balance\, and coordination. This class combines seated and standing exercises to help you move with more confidence in your daily life\, whether you’re reaching for a cupboard\, walking in the park\, or playing with grandkids.
URL:https://thecenteronrosser.org/event/strength-and-balance-w-joy-1hr-2/2026-07-15/
CATEGORIES:Basic Fitness
ATTACH;FMTTYPE=image/png:https://thecenteronrosser.org/wp-content/uploads/2026/04/strengthbalance.png
END:VEVENT
BEGIN:VEVENT
DTSTART;TZID=UTC:20260716T090000
DTEND;TZID=UTC:20260716T100000
DTSTAMP:20260422T132348
CREATED:20260417T023638Z
LAST-MODIFIED:20260417T023638Z
UID:10004823-1784192400-1784196000@thecenteronrosser.org
SUMMARY:Strength and Balance w/Joy -1hr
DESCRIPTION:A welcoming\, low-impact class focused on improving the physical pillars of independence: strength\, balance\, and coordination. This class combines seated and standing exercises to help you move with more confidence in your daily life\, whether you’re reaching for a cupboard\, walking in the park\, or playing with grandkids.
URL:https://thecenteronrosser.org/event/strength-and-balance-w-joy-1hr/2026-07-16/
CATEGORIES:Basic Fitness
ATTACH;FMTTYPE=image/png:https://thecenteronrosser.org/wp-content/uploads/2026/04/strengthbalance.png
END:VEVENT
BEGIN:VEVENT
DTSTART;TZID=UTC:20260722T093000
DTEND;TZID=UTC:20260722T103000
DTSTAMP:20260422T132348
CREATED:20260417T163750Z
LAST-MODIFIED:20260417T163750Z
UID:10006130-1784712600-1784716200@thecenteronrosser.org
SUMMARY:Strength and Balance w/Joy -1hr
DESCRIPTION:A welcoming\, low-impact class focused on improving the physical pillars of independence: strength\, balance\, and coordination. This class combines seated and standing exercises to help you move with more confidence in your daily life\, whether you’re reaching for a cupboard\, walking in the park\, or playing with grandkids.
URL:https://thecenteronrosser.org/event/strength-and-balance-w-joy-1hr-2/2026-07-22/
CATEGORIES:Basic Fitness
ATTACH;FMTTYPE=image/png:https://thecenteronrosser.org/wp-content/uploads/2026/04/strengthbalance.png
END:VEVENT
BEGIN:VEVENT
DTSTART;TZID=UTC:20260723T090000
DTEND;TZID=UTC:20260723T100000
DTSTAMP:20260422T132348
CREATED:20260417T023638Z
LAST-MODIFIED:20260417T023638Z
UID:10004824-1784797200-1784800800@thecenteronrosser.org
SUMMARY:Strength and Balance w/Joy -1hr
DESCRIPTION:A welcoming\, low-impact class focused on improving the physical pillars of independence: strength\, balance\, and coordination. This class combines seated and standing exercises to help you move with more confidence in your daily life\, whether you’re reaching for a cupboard\, walking in the park\, or playing with grandkids.
URL:https://thecenteronrosser.org/event/strength-and-balance-w-joy-1hr/2026-07-23/
CATEGORIES:Basic Fitness
ATTACH;FMTTYPE=image/png:https://thecenteronrosser.org/wp-content/uploads/2026/04/strengthbalance.png
END:VEVENT
BEGIN:VEVENT
DTSTART;TZID=UTC:20260729T093000
DTEND;TZID=UTC:20260729T103000
DTSTAMP:20260422T132348
CREATED:20260417T163750Z
LAST-MODIFIED:20260417T163750Z
UID:10006131-1785317400-1785321000@thecenteronrosser.org
SUMMARY:Strength and Balance w/Joy -1hr
DESCRIPTION:A welcoming\, low-impact class focused on improving the physical pillars of independence: strength\, balance\, and coordination. This class combines seated and standing exercises to help you move with more confidence in your daily life\, whether you’re reaching for a cupboard\, walking in the park\, or playing with grandkids.
URL:https://thecenteronrosser.org/event/strength-and-balance-w-joy-1hr-2/2026-07-29/
CATEGORIES:Basic Fitness
ATTACH;FMTTYPE=image/png:https://thecenteronrosser.org/wp-content/uploads/2026/04/strengthbalance.png
END:VEVENT
BEGIN:VEVENT
DTSTART;TZID=UTC:20260730T090000
DTEND;TZID=UTC:20260730T100000
DTSTAMP:20260422T132348
CREATED:20260417T023638Z
LAST-MODIFIED:20260417T023638Z
UID:10004825-1785402000-1785405600@thecenteronrosser.org
SUMMARY:Strength and Balance w/Joy -1hr
DESCRIPTION:A welcoming\, low-impact class focused on improving the physical pillars of independence: strength\, balance\, and coordination. This class combines seated and standing exercises to help you move with more confidence in your daily life\, whether you’re reaching for a cupboard\, walking in the park\, or playing with grandkids.
URL:https://thecenteronrosser.org/event/strength-and-balance-w-joy-1hr/2026-07-30/
CATEGORIES:Basic Fitness
ATTACH;FMTTYPE=image/png:https://thecenteronrosser.org/wp-content/uploads/2026/04/strengthbalance.png
END:VEVENT
BEGIN:VEVENT
DTSTART;TZID=UTC:20260805T093000
DTEND;TZID=UTC:20260805T103000
DTSTAMP:20260422T132348
CREATED:20260417T163750Z
LAST-MODIFIED:20260417T163750Z
UID:10006132-1785922200-1785925800@thecenteronrosser.org
SUMMARY:Strength and Balance w/Joy -1hr
DESCRIPTION:A welcoming\, low-impact class focused on improving the physical pillars of independence: strength\, balance\, and coordination. This class combines seated and standing exercises to help you move with more confidence in your daily life\, whether you’re reaching for a cupboard\, walking in the park\, or playing with grandkids.
URL:https://thecenteronrosser.org/event/strength-and-balance-w-joy-1hr-2/2026-08-05/
CATEGORIES:Basic Fitness
ATTACH;FMTTYPE=image/png:https://thecenteronrosser.org/wp-content/uploads/2026/04/strengthbalance.png
END:VEVENT
END:VCALENDAR