BEGIN:VCALENDAR
VERSION:2.0
PRODID:-//The Center on Rosser - ECPv6.15.20//NONSGML v1.0//EN
CALSCALE:GREGORIAN
METHOD:PUBLISH
X-WR-CALNAME:The Center on Rosser
X-ORIGINAL-URL:https://thecenteronrosser.org
X-WR-CALDESC:Events for The Center on Rosser
REFRESH-INTERVAL;VALUE=DURATION:PT1H
X-Robots-Tag:noindex
X-PUBLISHED-TTL:PT1H
BEGIN:VTIMEZONE
TZID:UTC
BEGIN:STANDARD
TZOFFSETFROM:+0000
TZOFFSETTO:+0000
TZNAME:UTC
DTSTART:20250101T000000
END:STANDARD
END:VTIMEZONE
BEGIN:VEVENT
DTSTART;TZID=UTC:20260422T170000
DTEND;TZID=UTC:20260422T180000
DTSTAMP:20260422T132258
CREATED:20260417T171056Z
LAST-MODIFIED:20260417T171103Z
UID:10009814-1776877200-1776880800@thecenteronrosser.org
SUMMARY:Full Body Fitness - Latin Dance Based Exercise
DESCRIPTION:A Gentle\, High-Energy Dance Experience \nThis class is designed specifically for those who want to stay active\, improve their balance\, and have fun without the strain of a high-impact workout. We swap “intensity” for “intentionality\,” focusing on rhythmic movements that keep your heart healthy and your joints flexible.
URL:https://thecenteronrosser.org/event/full-body-fitness-latin-dance-based-exercise/2026-04-22/
CATEGORIES:Basic Fitness,Dance
ATTACH;FMTTYPE=image/png:https://thecenteronrosser.org/wp-content/uploads/2026/04/latindance.png
END:VEVENT
BEGIN:VEVENT
DTSTART;TZID=UTC:20260429T170000
DTEND;TZID=UTC:20260429T180000
DTSTAMP:20260422T132258
CREATED:20260417T171056Z
LAST-MODIFIED:20260417T171103Z
UID:10009815-1777482000-1777485600@thecenteronrosser.org
SUMMARY:Full Body Fitness - Latin Dance Based Exercise
DESCRIPTION:A Gentle\, High-Energy Dance Experience \nThis class is designed specifically for those who want to stay active\, improve their balance\, and have fun without the strain of a high-impact workout. We swap “intensity” for “intentionality\,” focusing on rhythmic movements that keep your heart healthy and your joints flexible.
URL:https://thecenteronrosser.org/event/full-body-fitness-latin-dance-based-exercise/2026-04-29/
CATEGORIES:Basic Fitness,Dance
ATTACH;FMTTYPE=image/png:https://thecenteronrosser.org/wp-content/uploads/2026/04/latindance.png
END:VEVENT
BEGIN:VEVENT
DTSTART;TZID=UTC:20260506T170000
DTEND;TZID=UTC:20260506T180000
DTSTAMP:20260422T132258
CREATED:20260417T171056Z
LAST-MODIFIED:20260417T171103Z
UID:10009816-1778086800-1778090400@thecenteronrosser.org
SUMMARY:Full Body Fitness - Latin Dance Based Exercise
DESCRIPTION:A Gentle\, High-Energy Dance Experience \nThis class is designed specifically for those who want to stay active\, improve their balance\, and have fun without the strain of a high-impact workout. We swap “intensity” for “intentionality\,” focusing on rhythmic movements that keep your heart healthy and your joints flexible.
URL:https://thecenteronrosser.org/event/full-body-fitness-latin-dance-based-exercise/2026-05-06/
CATEGORIES:Basic Fitness,Dance
ATTACH;FMTTYPE=image/png:https://thecenteronrosser.org/wp-content/uploads/2026/04/latindance.png
END:VEVENT
BEGIN:VEVENT
DTSTART;TZID=UTC:20260513T170000
DTEND;TZID=UTC:20260513T180000
DTSTAMP:20260422T132258
CREATED:20260417T171056Z
LAST-MODIFIED:20260417T171103Z
UID:10009817-1778691600-1778695200@thecenteronrosser.org
SUMMARY:Full Body Fitness - Latin Dance Based Exercise
DESCRIPTION:A Gentle\, High-Energy Dance Experience \nThis class is designed specifically for those who want to stay active\, improve their balance\, and have fun without the strain of a high-impact workout. We swap “intensity” for “intentionality\,” focusing on rhythmic movements that keep your heart healthy and your joints flexible.
URL:https://thecenteronrosser.org/event/full-body-fitness-latin-dance-based-exercise/2026-05-13/
CATEGORIES:Basic Fitness,Dance
ATTACH;FMTTYPE=image/png:https://thecenteronrosser.org/wp-content/uploads/2026/04/latindance.png
END:VEVENT
BEGIN:VEVENT
DTSTART;TZID=UTC:20260520T170000
DTEND;TZID=UTC:20260520T180000
DTSTAMP:20260422T132258
CREATED:20260417T171056Z
LAST-MODIFIED:20260417T171103Z
UID:10009818-1779296400-1779300000@thecenteronrosser.org
SUMMARY:Full Body Fitness - Latin Dance Based Exercise
DESCRIPTION:A Gentle\, High-Energy Dance Experience \nThis class is designed specifically for those who want to stay active\, improve their balance\, and have fun without the strain of a high-impact workout. We swap “intensity” for “intentionality\,” focusing on rhythmic movements that keep your heart healthy and your joints flexible.
URL:https://thecenteronrosser.org/event/full-body-fitness-latin-dance-based-exercise/2026-05-20/
CATEGORIES:Basic Fitness,Dance
ATTACH;FMTTYPE=image/png:https://thecenteronrosser.org/wp-content/uploads/2026/04/latindance.png
END:VEVENT
BEGIN:VEVENT
DTSTART;TZID=UTC:20260527T170000
DTEND;TZID=UTC:20260527T180000
DTSTAMP:20260422T132258
CREATED:20260417T171056Z
LAST-MODIFIED:20260417T171103Z
UID:10009819-1779901200-1779904800@thecenteronrosser.org
SUMMARY:Full Body Fitness - Latin Dance Based Exercise
DESCRIPTION:A Gentle\, High-Energy Dance Experience \nThis class is designed specifically for those who want to stay active\, improve their balance\, and have fun without the strain of a high-impact workout. We swap “intensity” for “intentionality\,” focusing on rhythmic movements that keep your heart healthy and your joints flexible.
URL:https://thecenteronrosser.org/event/full-body-fitness-latin-dance-based-exercise/2026-05-27/
CATEGORIES:Basic Fitness,Dance
ATTACH;FMTTYPE=image/png:https://thecenteronrosser.org/wp-content/uploads/2026/04/latindance.png
END:VEVENT
BEGIN:VEVENT
DTSTART;TZID=UTC:20260603T170000
DTEND;TZID=UTC:20260603T180000
DTSTAMP:20260422T132258
CREATED:20260417T171056Z
LAST-MODIFIED:20260417T171103Z
UID:10009820-1780506000-1780509600@thecenteronrosser.org
SUMMARY:Full Body Fitness - Latin Dance Based Exercise
DESCRIPTION:A Gentle\, High-Energy Dance Experience \nThis class is designed specifically for those who want to stay active\, improve their balance\, and have fun without the strain of a high-impact workout. We swap “intensity” for “intentionality\,” focusing on rhythmic movements that keep your heart healthy and your joints flexible.
URL:https://thecenteronrosser.org/event/full-body-fitness-latin-dance-based-exercise/2026-06-03/
CATEGORIES:Basic Fitness,Dance
ATTACH;FMTTYPE=image/png:https://thecenteronrosser.org/wp-content/uploads/2026/04/latindance.png
END:VEVENT
BEGIN:VEVENT
DTSTART;TZID=UTC:20260610T170000
DTEND;TZID=UTC:20260610T180000
DTSTAMP:20260422T132258
CREATED:20260417T171056Z
LAST-MODIFIED:20260417T171103Z
UID:10009821-1781110800-1781114400@thecenteronrosser.org
SUMMARY:Full Body Fitness - Latin Dance Based Exercise
DESCRIPTION:A Gentle\, High-Energy Dance Experience \nThis class is designed specifically for those who want to stay active\, improve their balance\, and have fun without the strain of a high-impact workout. We swap “intensity” for “intentionality\,” focusing on rhythmic movements that keep your heart healthy and your joints flexible.
URL:https://thecenteronrosser.org/event/full-body-fitness-latin-dance-based-exercise/2026-06-10/
CATEGORIES:Basic Fitness,Dance
ATTACH;FMTTYPE=image/png:https://thecenteronrosser.org/wp-content/uploads/2026/04/latindance.png
END:VEVENT
BEGIN:VEVENT
DTSTART;TZID=UTC:20260617T170000
DTEND;TZID=UTC:20260617T180000
DTSTAMP:20260422T132258
CREATED:20260417T171056Z
LAST-MODIFIED:20260417T171103Z
UID:10009822-1781715600-1781719200@thecenteronrosser.org
SUMMARY:Full Body Fitness - Latin Dance Based Exercise
DESCRIPTION:A Gentle\, High-Energy Dance Experience \nThis class is designed specifically for those who want to stay active\, improve their balance\, and have fun without the strain of a high-impact workout. We swap “intensity” for “intentionality\,” focusing on rhythmic movements that keep your heart healthy and your joints flexible.
URL:https://thecenteronrosser.org/event/full-body-fitness-latin-dance-based-exercise/2026-06-17/
CATEGORIES:Basic Fitness,Dance
ATTACH;FMTTYPE=image/png:https://thecenteronrosser.org/wp-content/uploads/2026/04/latindance.png
END:VEVENT
BEGIN:VEVENT
DTSTART;TZID=UTC:20260624T170000
DTEND;TZID=UTC:20260624T180000
DTSTAMP:20260422T132258
CREATED:20260417T171056Z
LAST-MODIFIED:20260417T171103Z
UID:10009823-1782320400-1782324000@thecenteronrosser.org
SUMMARY:Full Body Fitness - Latin Dance Based Exercise
DESCRIPTION:A Gentle\, High-Energy Dance Experience \nThis class is designed specifically for those who want to stay active\, improve their balance\, and have fun without the strain of a high-impact workout. We swap “intensity” for “intentionality\,” focusing on rhythmic movements that keep your heart healthy and your joints flexible.
URL:https://thecenteronrosser.org/event/full-body-fitness-latin-dance-based-exercise/2026-06-24/
CATEGORIES:Basic Fitness,Dance
ATTACH;FMTTYPE=image/png:https://thecenteronrosser.org/wp-content/uploads/2026/04/latindance.png
END:VEVENT
BEGIN:VEVENT
DTSTART;TZID=UTC:20260701T170000
DTEND;TZID=UTC:20260701T180000
DTSTAMP:20260422T132258
CREATED:20260417T171056Z
LAST-MODIFIED:20260417T171103Z
UID:10009824-1782925200-1782928800@thecenteronrosser.org
SUMMARY:Full Body Fitness - Latin Dance Based Exercise
DESCRIPTION:A Gentle\, High-Energy Dance Experience \nThis class is designed specifically for those who want to stay active\, improve their balance\, and have fun without the strain of a high-impact workout. We swap “intensity” for “intentionality\,” focusing on rhythmic movements that keep your heart healthy and your joints flexible.
URL:https://thecenteronrosser.org/event/full-body-fitness-latin-dance-based-exercise/2026-07-01/
CATEGORIES:Basic Fitness,Dance
ATTACH;FMTTYPE=image/png:https://thecenteronrosser.org/wp-content/uploads/2026/04/latindance.png
END:VEVENT
BEGIN:VEVENT
DTSTART;TZID=UTC:20260708T170000
DTEND;TZID=UTC:20260708T180000
DTSTAMP:20260422T132258
CREATED:20260417T171056Z
LAST-MODIFIED:20260417T171103Z
UID:10009825-1783530000-1783533600@thecenteronrosser.org
SUMMARY:Full Body Fitness - Latin Dance Based Exercise
DESCRIPTION:A Gentle\, High-Energy Dance Experience \nThis class is designed specifically for those who want to stay active\, improve their balance\, and have fun without the strain of a high-impact workout. We swap “intensity” for “intentionality\,” focusing on rhythmic movements that keep your heart healthy and your joints flexible.
URL:https://thecenteronrosser.org/event/full-body-fitness-latin-dance-based-exercise/2026-07-08/
CATEGORIES:Basic Fitness,Dance
ATTACH;FMTTYPE=image/png:https://thecenteronrosser.org/wp-content/uploads/2026/04/latindance.png
END:VEVENT
BEGIN:VEVENT
DTSTART;TZID=UTC:20260715T170000
DTEND;TZID=UTC:20260715T180000
DTSTAMP:20260422T132258
CREATED:20260417T171056Z
LAST-MODIFIED:20260417T171103Z
UID:10009826-1784134800-1784138400@thecenteronrosser.org
SUMMARY:Full Body Fitness - Latin Dance Based Exercise
DESCRIPTION:A Gentle\, High-Energy Dance Experience \nThis class is designed specifically for those who want to stay active\, improve their balance\, and have fun without the strain of a high-impact workout. We swap “intensity” for “intentionality\,” focusing on rhythmic movements that keep your heart healthy and your joints flexible.
URL:https://thecenteronrosser.org/event/full-body-fitness-latin-dance-based-exercise/2026-07-15/
CATEGORIES:Basic Fitness,Dance
ATTACH;FMTTYPE=image/png:https://thecenteronrosser.org/wp-content/uploads/2026/04/latindance.png
END:VEVENT
BEGIN:VEVENT
DTSTART;TZID=UTC:20260722T170000
DTEND;TZID=UTC:20260722T180000
DTSTAMP:20260422T132258
CREATED:20260417T171056Z
LAST-MODIFIED:20260417T171103Z
UID:10009827-1784739600-1784743200@thecenteronrosser.org
SUMMARY:Full Body Fitness - Latin Dance Based Exercise
DESCRIPTION:A Gentle\, High-Energy Dance Experience \nThis class is designed specifically for those who want to stay active\, improve their balance\, and have fun without the strain of a high-impact workout. We swap “intensity” for “intentionality\,” focusing on rhythmic movements that keep your heart healthy and your joints flexible.
URL:https://thecenteronrosser.org/event/full-body-fitness-latin-dance-based-exercise/2026-07-22/
CATEGORIES:Basic Fitness,Dance
ATTACH;FMTTYPE=image/png:https://thecenteronrosser.org/wp-content/uploads/2026/04/latindance.png
END:VEVENT
BEGIN:VEVENT
DTSTART;TZID=UTC:20260729T170000
DTEND;TZID=UTC:20260729T180000
DTSTAMP:20260422T132258
CREATED:20260417T171056Z
LAST-MODIFIED:20260417T171103Z
UID:10009828-1785344400-1785348000@thecenteronrosser.org
SUMMARY:Full Body Fitness - Latin Dance Based Exercise
DESCRIPTION:A Gentle\, High-Energy Dance Experience \nThis class is designed specifically for those who want to stay active\, improve their balance\, and have fun without the strain of a high-impact workout. We swap “intensity” for “intentionality\,” focusing on rhythmic movements that keep your heart healthy and your joints flexible.
URL:https://thecenteronrosser.org/event/full-body-fitness-latin-dance-based-exercise/2026-07-29/
CATEGORIES:Basic Fitness,Dance
ATTACH;FMTTYPE=image/png:https://thecenteronrosser.org/wp-content/uploads/2026/04/latindance.png
END:VEVENT
BEGIN:VEVENT
DTSTART;TZID=UTC:20260805T170000
DTEND;TZID=UTC:20260805T180000
DTSTAMP:20260422T132258
CREATED:20260417T171056Z
LAST-MODIFIED:20260417T171103Z
UID:10009829-1785949200-1785952800@thecenteronrosser.org
SUMMARY:Full Body Fitness - Latin Dance Based Exercise
DESCRIPTION:A Gentle\, High-Energy Dance Experience \nThis class is designed specifically for those who want to stay active\, improve their balance\, and have fun without the strain of a high-impact workout. We swap “intensity” for “intentionality\,” focusing on rhythmic movements that keep your heart healthy and your joints flexible.
URL:https://thecenteronrosser.org/event/full-body-fitness-latin-dance-based-exercise/2026-08-05/
CATEGORIES:Basic Fitness,Dance
ATTACH;FMTTYPE=image/png:https://thecenteronrosser.org/wp-content/uploads/2026/04/latindance.png
END:VEVENT
BEGIN:VEVENT
DTSTART;TZID=UTC:20260812T170000
DTEND;TZID=UTC:20260812T180000
DTSTAMP:20260422T132258
CREATED:20260417T171056Z
LAST-MODIFIED:20260417T171103Z
UID:10009830-1786554000-1786557600@thecenteronrosser.org
SUMMARY:Full Body Fitness - Latin Dance Based Exercise
DESCRIPTION:A Gentle\, High-Energy Dance Experience \nThis class is designed specifically for those who want to stay active\, improve their balance\, and have fun without the strain of a high-impact workout. We swap “intensity” for “intentionality\,” focusing on rhythmic movements that keep your heart healthy and your joints flexible.
URL:https://thecenteronrosser.org/event/full-body-fitness-latin-dance-based-exercise/2026-08-12/
CATEGORIES:Basic Fitness,Dance
ATTACH;FMTTYPE=image/png:https://thecenteronrosser.org/wp-content/uploads/2026/04/latindance.png
END:VEVENT
BEGIN:VEVENT
DTSTART;TZID=UTC:20260819T170000
DTEND;TZID=UTC:20260819T180000
DTSTAMP:20260422T132258
CREATED:20260417T171056Z
LAST-MODIFIED:20260417T171103Z
UID:10009831-1787158800-1787162400@thecenteronrosser.org
SUMMARY:Full Body Fitness - Latin Dance Based Exercise
DESCRIPTION:A Gentle\, High-Energy Dance Experience \nThis class is designed specifically for those who want to stay active\, improve their balance\, and have fun without the strain of a high-impact workout. We swap “intensity” for “intentionality\,” focusing on rhythmic movements that keep your heart healthy and your joints flexible.
URL:https://thecenteronrosser.org/event/full-body-fitness-latin-dance-based-exercise/2026-08-19/
CATEGORIES:Basic Fitness,Dance
ATTACH;FMTTYPE=image/png:https://thecenteronrosser.org/wp-content/uploads/2026/04/latindance.png
END:VEVENT
BEGIN:VEVENT
DTSTART;TZID=UTC:20260826T170000
DTEND;TZID=UTC:20260826T180000
DTSTAMP:20260422T132258
CREATED:20260417T171056Z
LAST-MODIFIED:20260417T171103Z
UID:10009832-1787763600-1787767200@thecenteronrosser.org
SUMMARY:Full Body Fitness - Latin Dance Based Exercise
DESCRIPTION:A Gentle\, High-Energy Dance Experience \nThis class is designed specifically for those who want to stay active\, improve their balance\, and have fun without the strain of a high-impact workout. We swap “intensity” for “intentionality\,” focusing on rhythmic movements that keep your heart healthy and your joints flexible.
URL:https://thecenteronrosser.org/event/full-body-fitness-latin-dance-based-exercise/2026-08-26/
CATEGORIES:Basic Fitness,Dance
ATTACH;FMTTYPE=image/png:https://thecenteronrosser.org/wp-content/uploads/2026/04/latindance.png
END:VEVENT
BEGIN:VEVENT
DTSTART;TZID=UTC:20260902T170000
DTEND;TZID=UTC:20260902T180000
DTSTAMP:20260422T132258
CREATED:20260417T171056Z
LAST-MODIFIED:20260417T171103Z
UID:10009833-1788368400-1788372000@thecenteronrosser.org
SUMMARY:Full Body Fitness - Latin Dance Based Exercise
DESCRIPTION:A Gentle\, High-Energy Dance Experience \nThis class is designed specifically for those who want to stay active\, improve their balance\, and have fun without the strain of a high-impact workout. We swap “intensity” for “intentionality\,” focusing on rhythmic movements that keep your heart healthy and your joints flexible.
URL:https://thecenteronrosser.org/event/full-body-fitness-latin-dance-based-exercise/2026-09-02/
CATEGORIES:Basic Fitness,Dance
ATTACH;FMTTYPE=image/png:https://thecenteronrosser.org/wp-content/uploads/2026/04/latindance.png
END:VEVENT
BEGIN:VEVENT
DTSTART;TZID=UTC:20260909T170000
DTEND;TZID=UTC:20260909T180000
DTSTAMP:20260422T132258
CREATED:20260417T171056Z
LAST-MODIFIED:20260417T171103Z
UID:10009834-1788973200-1788976800@thecenteronrosser.org
SUMMARY:Full Body Fitness - Latin Dance Based Exercise
DESCRIPTION:A Gentle\, High-Energy Dance Experience \nThis class is designed specifically for those who want to stay active\, improve their balance\, and have fun without the strain of a high-impact workout. We swap “intensity” for “intentionality\,” focusing on rhythmic movements that keep your heart healthy and your joints flexible.
URL:https://thecenteronrosser.org/event/full-body-fitness-latin-dance-based-exercise/2026-09-09/
CATEGORIES:Basic Fitness,Dance
ATTACH;FMTTYPE=image/png:https://thecenteronrosser.org/wp-content/uploads/2026/04/latindance.png
END:VEVENT
BEGIN:VEVENT
DTSTART;TZID=UTC:20260916T170000
DTEND;TZID=UTC:20260916T180000
DTSTAMP:20260422T132258
CREATED:20260417T171056Z
LAST-MODIFIED:20260417T171103Z
UID:10009835-1789578000-1789581600@thecenteronrosser.org
SUMMARY:Full Body Fitness - Latin Dance Based Exercise
DESCRIPTION:A Gentle\, High-Energy Dance Experience \nThis class is designed specifically for those who want to stay active\, improve their balance\, and have fun without the strain of a high-impact workout. We swap “intensity” for “intentionality\,” focusing on rhythmic movements that keep your heart healthy and your joints flexible.
URL:https://thecenteronrosser.org/event/full-body-fitness-latin-dance-based-exercise/2026-09-16/
CATEGORIES:Basic Fitness,Dance
ATTACH;FMTTYPE=image/png:https://thecenteronrosser.org/wp-content/uploads/2026/04/latindance.png
END:VEVENT
BEGIN:VEVENT
DTSTART;TZID=UTC:20260923T170000
DTEND;TZID=UTC:20260923T180000
DTSTAMP:20260422T132258
CREATED:20260417T171056Z
LAST-MODIFIED:20260417T171103Z
UID:10009836-1790182800-1790186400@thecenteronrosser.org
SUMMARY:Full Body Fitness - Latin Dance Based Exercise
DESCRIPTION:A Gentle\, High-Energy Dance Experience \nThis class is designed specifically for those who want to stay active\, improve their balance\, and have fun without the strain of a high-impact workout. We swap “intensity” for “intentionality\,” focusing on rhythmic movements that keep your heart healthy and your joints flexible.
URL:https://thecenteronrosser.org/event/full-body-fitness-latin-dance-based-exercise/2026-09-23/
CATEGORIES:Basic Fitness,Dance
ATTACH;FMTTYPE=image/png:https://thecenteronrosser.org/wp-content/uploads/2026/04/latindance.png
END:VEVENT
BEGIN:VEVENT
DTSTART;TZID=UTC:20260930T170000
DTEND;TZID=UTC:20260930T180000
DTSTAMP:20260422T132258
CREATED:20260417T171056Z
LAST-MODIFIED:20260417T171103Z
UID:10009837-1790787600-1790791200@thecenteronrosser.org
SUMMARY:Full Body Fitness - Latin Dance Based Exercise
DESCRIPTION:A Gentle\, High-Energy Dance Experience \nThis class is designed specifically for those who want to stay active\, improve their balance\, and have fun without the strain of a high-impact workout. We swap “intensity” for “intentionality\,” focusing on rhythmic movements that keep your heart healthy and your joints flexible.
URL:https://thecenteronrosser.org/event/full-body-fitness-latin-dance-based-exercise/2026-09-30/
CATEGORIES:Basic Fitness,Dance
ATTACH;FMTTYPE=image/png:https://thecenteronrosser.org/wp-content/uploads/2026/04/latindance.png
END:VEVENT
BEGIN:VEVENT
DTSTART;TZID=UTC:20261007T170000
DTEND;TZID=UTC:20261007T180000
DTSTAMP:20260422T132258
CREATED:20260417T171056Z
LAST-MODIFIED:20260417T171103Z
UID:10009838-1791392400-1791396000@thecenteronrosser.org
SUMMARY:Full Body Fitness - Latin Dance Based Exercise
DESCRIPTION:A Gentle\, High-Energy Dance Experience \nThis class is designed specifically for those who want to stay active\, improve their balance\, and have fun without the strain of a high-impact workout. We swap “intensity” for “intentionality\,” focusing on rhythmic movements that keep your heart healthy and your joints flexible.
URL:https://thecenteronrosser.org/event/full-body-fitness-latin-dance-based-exercise/2026-10-07/
CATEGORIES:Basic Fitness,Dance
ATTACH;FMTTYPE=image/png:https://thecenteronrosser.org/wp-content/uploads/2026/04/latindance.png
END:VEVENT
BEGIN:VEVENT
DTSTART;TZID=UTC:20261014T170000
DTEND;TZID=UTC:20261014T180000
DTSTAMP:20260422T132258
CREATED:20260417T171056Z
LAST-MODIFIED:20260417T171103Z
UID:10009839-1791997200-1792000800@thecenteronrosser.org
SUMMARY:Full Body Fitness - Latin Dance Based Exercise
DESCRIPTION:A Gentle\, High-Energy Dance Experience \nThis class is designed specifically for those who want to stay active\, improve their balance\, and have fun without the strain of a high-impact workout. We swap “intensity” for “intentionality\,” focusing on rhythmic movements that keep your heart healthy and your joints flexible.
URL:https://thecenteronrosser.org/event/full-body-fitness-latin-dance-based-exercise/2026-10-14/
CATEGORIES:Basic Fitness,Dance
ATTACH;FMTTYPE=image/png:https://thecenteronrosser.org/wp-content/uploads/2026/04/latindance.png
END:VEVENT
BEGIN:VEVENT
DTSTART;TZID=UTC:20261021T170000
DTEND;TZID=UTC:20261021T180000
DTSTAMP:20260422T132258
CREATED:20260417T171056Z
LAST-MODIFIED:20260417T171103Z
UID:10009840-1792602000-1792605600@thecenteronrosser.org
SUMMARY:Full Body Fitness - Latin Dance Based Exercise
DESCRIPTION:A Gentle\, High-Energy Dance Experience \nThis class is designed specifically for those who want to stay active\, improve their balance\, and have fun without the strain of a high-impact workout. We swap “intensity” for “intentionality\,” focusing on rhythmic movements that keep your heart healthy and your joints flexible.
URL:https://thecenteronrosser.org/event/full-body-fitness-latin-dance-based-exercise/2026-10-21/
CATEGORIES:Basic Fitness,Dance
ATTACH;FMTTYPE=image/png:https://thecenteronrosser.org/wp-content/uploads/2026/04/latindance.png
END:VEVENT
BEGIN:VEVENT
DTSTART;TZID=UTC:20261028T170000
DTEND;TZID=UTC:20261028T180000
DTSTAMP:20260422T132258
CREATED:20260417T171056Z
LAST-MODIFIED:20260417T171103Z
UID:10009841-1793206800-1793210400@thecenteronrosser.org
SUMMARY:Full Body Fitness - Latin Dance Based Exercise
DESCRIPTION:A Gentle\, High-Energy Dance Experience \nThis class is designed specifically for those who want to stay active\, improve their balance\, and have fun without the strain of a high-impact workout. We swap “intensity” for “intentionality\,” focusing on rhythmic movements that keep your heart healthy and your joints flexible.
URL:https://thecenteronrosser.org/event/full-body-fitness-latin-dance-based-exercise/2026-10-28/
CATEGORIES:Basic Fitness,Dance
ATTACH;FMTTYPE=image/png:https://thecenteronrosser.org/wp-content/uploads/2026/04/latindance.png
END:VEVENT
BEGIN:VEVENT
DTSTART;TZID=UTC:20261104T170000
DTEND;TZID=UTC:20261104T180000
DTSTAMP:20260422T132258
CREATED:20260417T171056Z
LAST-MODIFIED:20260417T171103Z
UID:10009842-1793811600-1793815200@thecenteronrosser.org
SUMMARY:Full Body Fitness - Latin Dance Based Exercise
DESCRIPTION:A Gentle\, High-Energy Dance Experience \nThis class is designed specifically for those who want to stay active\, improve their balance\, and have fun without the strain of a high-impact workout. We swap “intensity” for “intentionality\,” focusing on rhythmic movements that keep your heart healthy and your joints flexible.
URL:https://thecenteronrosser.org/event/full-body-fitness-latin-dance-based-exercise/2026-11-04/
CATEGORIES:Basic Fitness,Dance
ATTACH;FMTTYPE=image/png:https://thecenteronrosser.org/wp-content/uploads/2026/04/latindance.png
END:VEVENT
BEGIN:VEVENT
DTSTART;TZID=UTC:20261111T170000
DTEND;TZID=UTC:20261111T180000
DTSTAMP:20260422T132258
CREATED:20260417T171056Z
LAST-MODIFIED:20260417T171103Z
UID:10009843-1794416400-1794420000@thecenteronrosser.org
SUMMARY:Full Body Fitness - Latin Dance Based Exercise
DESCRIPTION:A Gentle\, High-Energy Dance Experience \nThis class is designed specifically for those who want to stay active\, improve their balance\, and have fun without the strain of a high-impact workout. We swap “intensity” for “intentionality\,” focusing on rhythmic movements that keep your heart healthy and your joints flexible.
URL:https://thecenteronrosser.org/event/full-body-fitness-latin-dance-based-exercise/2026-11-11/
CATEGORIES:Basic Fitness,Dance
ATTACH;FMTTYPE=image/png:https://thecenteronrosser.org/wp-content/uploads/2026/04/latindance.png
END:VEVENT
END:VCALENDAR