BEGIN:VCALENDAR
VERSION:2.0
PRODID:-//The Center on Rosser - ECPv6.15.20//NONSGML v1.0//EN
CALSCALE:GREGORIAN
METHOD:PUBLISH
X-WR-CALNAME:The Center on Rosser
X-ORIGINAL-URL:https://thecenteronrosser.org
X-WR-CALDESC:Events for The Center on Rosser
REFRESH-INTERVAL;VALUE=DURATION:PT1H
X-Robots-Tag:noindex
X-PUBLISHED-TTL:PT1H
BEGIN:VTIMEZONE
TZID:UTC
BEGIN:STANDARD
TZOFFSETFROM:+0000
TZOFFSETTO:+0000
TZNAME:UTC
DTSTART:20250101T000000
END:STANDARD
END:VTIMEZONE
BEGIN:VEVENT
DTSTART;TZID=UTC:20260422T104500
DTEND;TZID=UTC:20260422T234500
DTSTAMP:20260422T131540
CREATED:20260421T210339Z
LAST-MODIFIED:20260421T210339Z
UID:10010598-1776854700-1776901500@thecenteronrosser.org
SUMMARY:Stretch & Foam Roller Release
DESCRIPTION:A slow and accessible stretching class focused on relieving tension\, improving flexibility\, and promoting relaxation. Simple foam roller exercises and gentle stretches make this class suitable for beginners. \nClasses are free to Standard and Premium members. $3 for all others.
URL:https://thecenteronrosser.org/event/stretch-foam-roller-release/2026-04-22/
CATEGORIES:Basic Fitness
ATTACH;FMTTYPE=image/jpeg:https://thecenteronrosser.org/wp-content/uploads/2026/04/Foam-Roller.jpg
END:VEVENT
BEGIN:VEVENT
DTSTART;TZID=UTC:20260429T104500
DTEND;TZID=UTC:20260429T234500
DTSTAMP:20260422T131540
CREATED:20260421T210339Z
LAST-MODIFIED:20260421T210339Z
UID:10010599-1777459500-1777506300@thecenteronrosser.org
SUMMARY:Stretch & Foam Roller Release
DESCRIPTION:A slow and accessible stretching class focused on relieving tension\, improving flexibility\, and promoting relaxation. Simple foam roller exercises and gentle stretches make this class suitable for beginners. \nClasses are free to Standard and Premium members. $3 for all others.
URL:https://thecenteronrosser.org/event/stretch-foam-roller-release/2026-04-29/
CATEGORIES:Basic Fitness
ATTACH;FMTTYPE=image/jpeg:https://thecenteronrosser.org/wp-content/uploads/2026/04/Foam-Roller.jpg
END:VEVENT
BEGIN:VEVENT
DTSTART;TZID=UTC:20260506T104500
DTEND;TZID=UTC:20260506T234500
DTSTAMP:20260422T131540
CREATED:20260421T210339Z
LAST-MODIFIED:20260421T210339Z
UID:10010600-1778064300-1778111100@thecenteronrosser.org
SUMMARY:Stretch & Foam Roller Release
DESCRIPTION:A slow and accessible stretching class focused on relieving tension\, improving flexibility\, and promoting relaxation. Simple foam roller exercises and gentle stretches make this class suitable for beginners. \nClasses are free to Standard and Premium members. $3 for all others.
URL:https://thecenteronrosser.org/event/stretch-foam-roller-release/2026-05-06/
CATEGORIES:Basic Fitness
ATTACH;FMTTYPE=image/jpeg:https://thecenteronrosser.org/wp-content/uploads/2026/04/Foam-Roller.jpg
END:VEVENT
BEGIN:VEVENT
DTSTART;TZID=UTC:20260513T104500
DTEND;TZID=UTC:20260513T234500
DTSTAMP:20260422T131540
CREATED:20260421T210339Z
LAST-MODIFIED:20260421T210339Z
UID:10010601-1778669100-1778715900@thecenteronrosser.org
SUMMARY:Stretch & Foam Roller Release
DESCRIPTION:A slow and accessible stretching class focused on relieving tension\, improving flexibility\, and promoting relaxation. Simple foam roller exercises and gentle stretches make this class suitable for beginners. \nClasses are free to Standard and Premium members. $3 for all others.
URL:https://thecenteronrosser.org/event/stretch-foam-roller-release/2026-05-13/
CATEGORIES:Basic Fitness
ATTACH;FMTTYPE=image/jpeg:https://thecenteronrosser.org/wp-content/uploads/2026/04/Foam-Roller.jpg
END:VEVENT
BEGIN:VEVENT
DTSTART;TZID=UTC:20260520T104500
DTEND;TZID=UTC:20260520T234500
DTSTAMP:20260422T131540
CREATED:20260421T210339Z
LAST-MODIFIED:20260421T210339Z
UID:10010602-1779273900-1779320700@thecenteronrosser.org
SUMMARY:Stretch & Foam Roller Release
DESCRIPTION:A slow and accessible stretching class focused on relieving tension\, improving flexibility\, and promoting relaxation. Simple foam roller exercises and gentle stretches make this class suitable for beginners. \nClasses are free to Standard and Premium members. $3 for all others.
URL:https://thecenteronrosser.org/event/stretch-foam-roller-release/2026-05-20/
CATEGORIES:Basic Fitness
ATTACH;FMTTYPE=image/jpeg:https://thecenteronrosser.org/wp-content/uploads/2026/04/Foam-Roller.jpg
END:VEVENT
BEGIN:VEVENT
DTSTART;TZID=UTC:20260527T104500
DTEND;TZID=UTC:20260527T234500
DTSTAMP:20260422T131540
CREATED:20260421T210339Z
LAST-MODIFIED:20260421T210339Z
UID:10010603-1779878700-1779925500@thecenteronrosser.org
SUMMARY:Stretch & Foam Roller Release
DESCRIPTION:A slow and accessible stretching class focused on relieving tension\, improving flexibility\, and promoting relaxation. Simple foam roller exercises and gentle stretches make this class suitable for beginners. \nClasses are free to Standard and Premium members. $3 for all others.
URL:https://thecenteronrosser.org/event/stretch-foam-roller-release/2026-05-27/
CATEGORIES:Basic Fitness
ATTACH;FMTTYPE=image/jpeg:https://thecenteronrosser.org/wp-content/uploads/2026/04/Foam-Roller.jpg
END:VEVENT
BEGIN:VEVENT
DTSTART;TZID=UTC:20260603T104500
DTEND;TZID=UTC:20260603T234500
DTSTAMP:20260422T131540
CREATED:20260421T210339Z
LAST-MODIFIED:20260421T210339Z
UID:10010604-1780483500-1780530300@thecenteronrosser.org
SUMMARY:Stretch & Foam Roller Release
DESCRIPTION:A slow and accessible stretching class focused on relieving tension\, improving flexibility\, and promoting relaxation. Simple foam roller exercises and gentle stretches make this class suitable for beginners. \nClasses are free to Standard and Premium members. $3 for all others.
URL:https://thecenteronrosser.org/event/stretch-foam-roller-release/2026-06-03/
CATEGORIES:Basic Fitness
ATTACH;FMTTYPE=image/jpeg:https://thecenteronrosser.org/wp-content/uploads/2026/04/Foam-Roller.jpg
END:VEVENT
BEGIN:VEVENT
DTSTART;TZID=UTC:20260610T104500
DTEND;TZID=UTC:20260610T234500
DTSTAMP:20260422T131540
CREATED:20260421T210339Z
LAST-MODIFIED:20260421T210339Z
UID:10010605-1781088300-1781135100@thecenteronrosser.org
SUMMARY:Stretch & Foam Roller Release
DESCRIPTION:A slow and accessible stretching class focused on relieving tension\, improving flexibility\, and promoting relaxation. Simple foam roller exercises and gentle stretches make this class suitable for beginners. \nClasses are free to Standard and Premium members. $3 for all others.
URL:https://thecenteronrosser.org/event/stretch-foam-roller-release/2026-06-10/
CATEGORIES:Basic Fitness
ATTACH;FMTTYPE=image/jpeg:https://thecenteronrosser.org/wp-content/uploads/2026/04/Foam-Roller.jpg
END:VEVENT
BEGIN:VEVENT
DTSTART;TZID=UTC:20260617T104500
DTEND;TZID=UTC:20260617T234500
DTSTAMP:20260422T131540
CREATED:20260421T210339Z
LAST-MODIFIED:20260421T210339Z
UID:10010606-1781693100-1781739900@thecenteronrosser.org
SUMMARY:Stretch & Foam Roller Release
DESCRIPTION:A slow and accessible stretching class focused on relieving tension\, improving flexibility\, and promoting relaxation. Simple foam roller exercises and gentle stretches make this class suitable for beginners. \nClasses are free to Standard and Premium members. $3 for all others.
URL:https://thecenteronrosser.org/event/stretch-foam-roller-release/2026-06-17/
CATEGORIES:Basic Fitness
ATTACH;FMTTYPE=image/jpeg:https://thecenteronrosser.org/wp-content/uploads/2026/04/Foam-Roller.jpg
END:VEVENT
BEGIN:VEVENT
DTSTART;TZID=UTC:20260624T104500
DTEND;TZID=UTC:20260624T234500
DTSTAMP:20260422T131540
CREATED:20260421T210339Z
LAST-MODIFIED:20260421T210339Z
UID:10010607-1782297900-1782344700@thecenteronrosser.org
SUMMARY:Stretch & Foam Roller Release
DESCRIPTION:A slow and accessible stretching class focused on relieving tension\, improving flexibility\, and promoting relaxation. Simple foam roller exercises and gentle stretches make this class suitable for beginners. \nClasses are free to Standard and Premium members. $3 for all others.
URL:https://thecenteronrosser.org/event/stretch-foam-roller-release/2026-06-24/
CATEGORIES:Basic Fitness
ATTACH;FMTTYPE=image/jpeg:https://thecenteronrosser.org/wp-content/uploads/2026/04/Foam-Roller.jpg
END:VEVENT
BEGIN:VEVENT
DTSTART;TZID=UTC:20260701T104500
DTEND;TZID=UTC:20260701T234500
DTSTAMP:20260422T131540
CREATED:20260421T210339Z
LAST-MODIFIED:20260421T210339Z
UID:10010608-1782902700-1782949500@thecenteronrosser.org
SUMMARY:Stretch & Foam Roller Release
DESCRIPTION:A slow and accessible stretching class focused on relieving tension\, improving flexibility\, and promoting relaxation. Simple foam roller exercises and gentle stretches make this class suitable for beginners. \nClasses are free to Standard and Premium members. $3 for all others.
URL:https://thecenteronrosser.org/event/stretch-foam-roller-release/2026-07-01/
CATEGORIES:Basic Fitness
ATTACH;FMTTYPE=image/jpeg:https://thecenteronrosser.org/wp-content/uploads/2026/04/Foam-Roller.jpg
END:VEVENT
BEGIN:VEVENT
DTSTART;TZID=UTC:20260708T104500
DTEND;TZID=UTC:20260708T234500
DTSTAMP:20260422T131540
CREATED:20260421T210339Z
LAST-MODIFIED:20260421T210339Z
UID:10010609-1783507500-1783554300@thecenteronrosser.org
SUMMARY:Stretch & Foam Roller Release
DESCRIPTION:A slow and accessible stretching class focused on relieving tension\, improving flexibility\, and promoting relaxation. Simple foam roller exercises and gentle stretches make this class suitable for beginners. \nClasses are free to Standard and Premium members. $3 for all others.
URL:https://thecenteronrosser.org/event/stretch-foam-roller-release/2026-07-08/
CATEGORIES:Basic Fitness
ATTACH;FMTTYPE=image/jpeg:https://thecenteronrosser.org/wp-content/uploads/2026/04/Foam-Roller.jpg
END:VEVENT
BEGIN:VEVENT
DTSTART;TZID=UTC:20260715T104500
DTEND;TZID=UTC:20260715T234500
DTSTAMP:20260422T131540
CREATED:20260421T210339Z
LAST-MODIFIED:20260421T210339Z
UID:10010610-1784112300-1784159100@thecenteronrosser.org
SUMMARY:Stretch & Foam Roller Release
DESCRIPTION:A slow and accessible stretching class focused on relieving tension\, improving flexibility\, and promoting relaxation. Simple foam roller exercises and gentle stretches make this class suitable for beginners. \nClasses are free to Standard and Premium members. $3 for all others.
URL:https://thecenteronrosser.org/event/stretch-foam-roller-release/2026-07-15/
CATEGORIES:Basic Fitness
ATTACH;FMTTYPE=image/jpeg:https://thecenteronrosser.org/wp-content/uploads/2026/04/Foam-Roller.jpg
END:VEVENT
BEGIN:VEVENT
DTSTART;TZID=UTC:20260722T104500
DTEND;TZID=UTC:20260722T234500
DTSTAMP:20260422T131540
CREATED:20260421T210339Z
LAST-MODIFIED:20260421T210339Z
UID:10010611-1784717100-1784763900@thecenteronrosser.org
SUMMARY:Stretch & Foam Roller Release
DESCRIPTION:A slow and accessible stretching class focused on relieving tension\, improving flexibility\, and promoting relaxation. Simple foam roller exercises and gentle stretches make this class suitable for beginners. \nClasses are free to Standard and Premium members. $3 for all others.
URL:https://thecenteronrosser.org/event/stretch-foam-roller-release/2026-07-22/
CATEGORIES:Basic Fitness
ATTACH;FMTTYPE=image/jpeg:https://thecenteronrosser.org/wp-content/uploads/2026/04/Foam-Roller.jpg
END:VEVENT
BEGIN:VEVENT
DTSTART;TZID=UTC:20260729T104500
DTEND;TZID=UTC:20260729T234500
DTSTAMP:20260422T131540
CREATED:20260421T210339Z
LAST-MODIFIED:20260421T210339Z
UID:10010612-1785321900-1785368700@thecenteronrosser.org
SUMMARY:Stretch & Foam Roller Release
DESCRIPTION:A slow and accessible stretching class focused on relieving tension\, improving flexibility\, and promoting relaxation. Simple foam roller exercises and gentle stretches make this class suitable for beginners. \nClasses are free to Standard and Premium members. $3 for all others.
URL:https://thecenteronrosser.org/event/stretch-foam-roller-release/2026-07-29/
CATEGORIES:Basic Fitness
ATTACH;FMTTYPE=image/jpeg:https://thecenteronrosser.org/wp-content/uploads/2026/04/Foam-Roller.jpg
END:VEVENT
BEGIN:VEVENT
DTSTART;TZID=UTC:20260805T104500
DTEND;TZID=UTC:20260805T234500
DTSTAMP:20260422T131540
CREATED:20260421T210339Z
LAST-MODIFIED:20260421T210339Z
UID:10010613-1785926700-1785973500@thecenteronrosser.org
SUMMARY:Stretch & Foam Roller Release
DESCRIPTION:A slow and accessible stretching class focused on relieving tension\, improving flexibility\, and promoting relaxation. Simple foam roller exercises and gentle stretches make this class suitable for beginners. \nClasses are free to Standard and Premium members. $3 for all others.
URL:https://thecenteronrosser.org/event/stretch-foam-roller-release/2026-08-05/
CATEGORIES:Basic Fitness
ATTACH;FMTTYPE=image/jpeg:https://thecenteronrosser.org/wp-content/uploads/2026/04/Foam-Roller.jpg
END:VEVENT
BEGIN:VEVENT
DTSTART;TZID=UTC:20260812T104500
DTEND;TZID=UTC:20260812T234500
DTSTAMP:20260422T131540
CREATED:20260421T210339Z
LAST-MODIFIED:20260421T210339Z
UID:10010614-1786531500-1786578300@thecenteronrosser.org
SUMMARY:Stretch & Foam Roller Release
DESCRIPTION:A slow and accessible stretching class focused on relieving tension\, improving flexibility\, and promoting relaxation. Simple foam roller exercises and gentle stretches make this class suitable for beginners. \nClasses are free to Standard and Premium members. $3 for all others.
URL:https://thecenteronrosser.org/event/stretch-foam-roller-release/2026-08-12/
CATEGORIES:Basic Fitness
ATTACH;FMTTYPE=image/jpeg:https://thecenteronrosser.org/wp-content/uploads/2026/04/Foam-Roller.jpg
END:VEVENT
BEGIN:VEVENT
DTSTART;TZID=UTC:20260819T104500
DTEND;TZID=UTC:20260819T234500
DTSTAMP:20260422T131540
CREATED:20260421T210339Z
LAST-MODIFIED:20260421T210339Z
UID:10010615-1787136300-1787183100@thecenteronrosser.org
SUMMARY:Stretch & Foam Roller Release
DESCRIPTION:A slow and accessible stretching class focused on relieving tension\, improving flexibility\, and promoting relaxation. Simple foam roller exercises and gentle stretches make this class suitable for beginners. \nClasses are free to Standard and Premium members. $3 for all others.
URL:https://thecenteronrosser.org/event/stretch-foam-roller-release/2026-08-19/
CATEGORIES:Basic Fitness
ATTACH;FMTTYPE=image/jpeg:https://thecenteronrosser.org/wp-content/uploads/2026/04/Foam-Roller.jpg
END:VEVENT
BEGIN:VEVENT
DTSTART;TZID=UTC:20260826T104500
DTEND;TZID=UTC:20260826T234500
DTSTAMP:20260422T131540
CREATED:20260421T210339Z
LAST-MODIFIED:20260421T210339Z
UID:10010616-1787741100-1787787900@thecenteronrosser.org
SUMMARY:Stretch & Foam Roller Release
DESCRIPTION:A slow and accessible stretching class focused on relieving tension\, improving flexibility\, and promoting relaxation. Simple foam roller exercises and gentle stretches make this class suitable for beginners. \nClasses are free to Standard and Premium members. $3 for all others.
URL:https://thecenteronrosser.org/event/stretch-foam-roller-release/2026-08-26/
CATEGORIES:Basic Fitness
ATTACH;FMTTYPE=image/jpeg:https://thecenteronrosser.org/wp-content/uploads/2026/04/Foam-Roller.jpg
END:VEVENT
BEGIN:VEVENT
DTSTART;TZID=UTC:20260902T104500
DTEND;TZID=UTC:20260902T234500
DTSTAMP:20260422T131540
CREATED:20260421T210339Z
LAST-MODIFIED:20260421T210339Z
UID:10010617-1788345900-1788392700@thecenteronrosser.org
SUMMARY:Stretch & Foam Roller Release
DESCRIPTION:A slow and accessible stretching class focused on relieving tension\, improving flexibility\, and promoting relaxation. Simple foam roller exercises and gentle stretches make this class suitable for beginners. \nClasses are free to Standard and Premium members. $3 for all others.
URL:https://thecenteronrosser.org/event/stretch-foam-roller-release/2026-09-02/
CATEGORIES:Basic Fitness
ATTACH;FMTTYPE=image/jpeg:https://thecenteronrosser.org/wp-content/uploads/2026/04/Foam-Roller.jpg
END:VEVENT
BEGIN:VEVENT
DTSTART;TZID=UTC:20260909T104500
DTEND;TZID=UTC:20260909T234500
DTSTAMP:20260422T131540
CREATED:20260421T210339Z
LAST-MODIFIED:20260421T210339Z
UID:10010618-1788950700-1788997500@thecenteronrosser.org
SUMMARY:Stretch & Foam Roller Release
DESCRIPTION:A slow and accessible stretching class focused on relieving tension\, improving flexibility\, and promoting relaxation. Simple foam roller exercises and gentle stretches make this class suitable for beginners. \nClasses are free to Standard and Premium members. $3 for all others.
URL:https://thecenteronrosser.org/event/stretch-foam-roller-release/2026-09-09/
CATEGORIES:Basic Fitness
ATTACH;FMTTYPE=image/jpeg:https://thecenteronrosser.org/wp-content/uploads/2026/04/Foam-Roller.jpg
END:VEVENT
BEGIN:VEVENT
DTSTART;TZID=UTC:20260916T104500
DTEND;TZID=UTC:20260916T234500
DTSTAMP:20260422T131540
CREATED:20260421T210339Z
LAST-MODIFIED:20260421T210339Z
UID:10010619-1789555500-1789602300@thecenteronrosser.org
SUMMARY:Stretch & Foam Roller Release
DESCRIPTION:A slow and accessible stretching class focused on relieving tension\, improving flexibility\, and promoting relaxation. Simple foam roller exercises and gentle stretches make this class suitable for beginners. \nClasses are free to Standard and Premium members. $3 for all others.
URL:https://thecenteronrosser.org/event/stretch-foam-roller-release/2026-09-16/
CATEGORIES:Basic Fitness
ATTACH;FMTTYPE=image/jpeg:https://thecenteronrosser.org/wp-content/uploads/2026/04/Foam-Roller.jpg
END:VEVENT
BEGIN:VEVENT
DTSTART;TZID=UTC:20260923T104500
DTEND;TZID=UTC:20260923T234500
DTSTAMP:20260422T131540
CREATED:20260421T210339Z
LAST-MODIFIED:20260421T210339Z
UID:10010620-1790160300-1790207100@thecenteronrosser.org
SUMMARY:Stretch & Foam Roller Release
DESCRIPTION:A slow and accessible stretching class focused on relieving tension\, improving flexibility\, and promoting relaxation. Simple foam roller exercises and gentle stretches make this class suitable for beginners. \nClasses are free to Standard and Premium members. $3 for all others.
URL:https://thecenteronrosser.org/event/stretch-foam-roller-release/2026-09-23/
CATEGORIES:Basic Fitness
ATTACH;FMTTYPE=image/jpeg:https://thecenteronrosser.org/wp-content/uploads/2026/04/Foam-Roller.jpg
END:VEVENT
BEGIN:VEVENT
DTSTART;TZID=UTC:20260930T104500
DTEND;TZID=UTC:20260930T234500
DTSTAMP:20260422T131540
CREATED:20260421T210339Z
LAST-MODIFIED:20260421T210339Z
UID:10010621-1790765100-1790811900@thecenteronrosser.org
SUMMARY:Stretch & Foam Roller Release
DESCRIPTION:A slow and accessible stretching class focused on relieving tension\, improving flexibility\, and promoting relaxation. Simple foam roller exercises and gentle stretches make this class suitable for beginners. \nClasses are free to Standard and Premium members. $3 for all others.
URL:https://thecenteronrosser.org/event/stretch-foam-roller-release/2026-09-30/
CATEGORIES:Basic Fitness
ATTACH;FMTTYPE=image/jpeg:https://thecenteronrosser.org/wp-content/uploads/2026/04/Foam-Roller.jpg
END:VEVENT
BEGIN:VEVENT
DTSTART;TZID=UTC:20261007T104500
DTEND;TZID=UTC:20261007T234500
DTSTAMP:20260422T131540
CREATED:20260421T210339Z
LAST-MODIFIED:20260421T210339Z
UID:10010622-1791369900-1791416700@thecenteronrosser.org
SUMMARY:Stretch & Foam Roller Release
DESCRIPTION:A slow and accessible stretching class focused on relieving tension\, improving flexibility\, and promoting relaxation. Simple foam roller exercises and gentle stretches make this class suitable for beginners. \nClasses are free to Standard and Premium members. $3 for all others.
URL:https://thecenteronrosser.org/event/stretch-foam-roller-release/2026-10-07/
CATEGORIES:Basic Fitness
ATTACH;FMTTYPE=image/jpeg:https://thecenteronrosser.org/wp-content/uploads/2026/04/Foam-Roller.jpg
END:VEVENT
BEGIN:VEVENT
DTSTART;TZID=UTC:20261014T104500
DTEND;TZID=UTC:20261014T234500
DTSTAMP:20260422T131540
CREATED:20260421T210339Z
LAST-MODIFIED:20260421T210339Z
UID:10010623-1791974700-1792021500@thecenteronrosser.org
SUMMARY:Stretch & Foam Roller Release
DESCRIPTION:A slow and accessible stretching class focused on relieving tension\, improving flexibility\, and promoting relaxation. Simple foam roller exercises and gentle stretches make this class suitable for beginners. \nClasses are free to Standard and Premium members. $3 for all others.
URL:https://thecenteronrosser.org/event/stretch-foam-roller-release/2026-10-14/
CATEGORIES:Basic Fitness
ATTACH;FMTTYPE=image/jpeg:https://thecenteronrosser.org/wp-content/uploads/2026/04/Foam-Roller.jpg
END:VEVENT
BEGIN:VEVENT
DTSTART;TZID=UTC:20261021T104500
DTEND;TZID=UTC:20261021T234500
DTSTAMP:20260422T131540
CREATED:20260421T210339Z
LAST-MODIFIED:20260421T210339Z
UID:10010624-1792579500-1792626300@thecenteronrosser.org
SUMMARY:Stretch & Foam Roller Release
DESCRIPTION:A slow and accessible stretching class focused on relieving tension\, improving flexibility\, and promoting relaxation. Simple foam roller exercises and gentle stretches make this class suitable for beginners. \nClasses are free to Standard and Premium members. $3 for all others.
URL:https://thecenteronrosser.org/event/stretch-foam-roller-release/2026-10-21/
CATEGORIES:Basic Fitness
ATTACH;FMTTYPE=image/jpeg:https://thecenteronrosser.org/wp-content/uploads/2026/04/Foam-Roller.jpg
END:VEVENT
BEGIN:VEVENT
DTSTART;TZID=UTC:20261028T104500
DTEND;TZID=UTC:20261028T234500
DTSTAMP:20260422T131540
CREATED:20260421T210339Z
LAST-MODIFIED:20260421T210339Z
UID:10010625-1793184300-1793231100@thecenteronrosser.org
SUMMARY:Stretch & Foam Roller Release
DESCRIPTION:A slow and accessible stretching class focused on relieving tension\, improving flexibility\, and promoting relaxation. Simple foam roller exercises and gentle stretches make this class suitable for beginners. \nClasses are free to Standard and Premium members. $3 for all others.
URL:https://thecenteronrosser.org/event/stretch-foam-roller-release/2026-10-28/
CATEGORIES:Basic Fitness
ATTACH;FMTTYPE=image/jpeg:https://thecenteronrosser.org/wp-content/uploads/2026/04/Foam-Roller.jpg
END:VEVENT
BEGIN:VEVENT
DTSTART;TZID=UTC:20261104T104500
DTEND;TZID=UTC:20261104T234500
DTSTAMP:20260422T131540
CREATED:20260421T210339Z
LAST-MODIFIED:20260421T210339Z
UID:10010626-1793789100-1793835900@thecenteronrosser.org
SUMMARY:Stretch & Foam Roller Release
DESCRIPTION:A slow and accessible stretching class focused on relieving tension\, improving flexibility\, and promoting relaxation. Simple foam roller exercises and gentle stretches make this class suitable for beginners. \nClasses are free to Standard and Premium members. $3 for all others.
URL:https://thecenteronrosser.org/event/stretch-foam-roller-release/2026-11-04/
CATEGORIES:Basic Fitness
ATTACH;FMTTYPE=image/jpeg:https://thecenteronrosser.org/wp-content/uploads/2026/04/Foam-Roller.jpg
END:VEVENT
BEGIN:VEVENT
DTSTART;TZID=UTC:20261111T104500
DTEND;TZID=UTC:20261111T234500
DTSTAMP:20260422T131540
CREATED:20260421T210339Z
LAST-MODIFIED:20260421T210339Z
UID:10010627-1794393900-1794440700@thecenteronrosser.org
SUMMARY:Stretch & Foam Roller Release
DESCRIPTION:A slow and accessible stretching class focused on relieving tension\, improving flexibility\, and promoting relaxation. Simple foam roller exercises and gentle stretches make this class suitable for beginners. \nClasses are free to Standard and Premium members. $3 for all others.
URL:https://thecenteronrosser.org/event/stretch-foam-roller-release/2026-11-11/
CATEGORIES:Basic Fitness
ATTACH;FMTTYPE=image/jpeg:https://thecenteronrosser.org/wp-content/uploads/2026/04/Foam-Roller.jpg
END:VEVENT
END:VCALENDAR